BEGIN:VCALENDAR
VERSION:2.0
PRODID:-// - ECPv6.15.0.1//NONSGML v1.0//EN
CALSCALE:GREGORIAN
METHOD:PUBLISH
X-ORIGINAL-URL:https://www.oscodatownship.com
X-WR-CALDESC:Events for 
REFRESH-INTERVAL;VALUE=DURATION:PT1H
X-Robots-Tag:noindex
X-PUBLISHED-TTL:PT1H
BEGIN:VTIMEZONE
TZID:America/Detroit
BEGIN:DAYLIGHT
TZOFFSETFROM:-0500
TZOFFSETTO:-0400
TZNAME:EDT
DTSTART:20220313T070000
END:DAYLIGHT
BEGIN:STANDARD
TZOFFSETFROM:-0400
TZOFFSETTO:-0500
TZNAME:EST
DTSTART:20221106T060000
END:STANDARD
END:VTIMEZONE
BEGIN:VEVENT
DTSTART;VALUE=DATE:20220325
DTEND;VALUE=DATE:20220528
DTSTAMP:20260420T203522
CREATED:20220325T174027Z
LAST-MODIFIED:20220325T174027Z
UID:7490-1648166400-1653695999@www.oscodatownship.com
SUMMARY:My Way To Wellness
DESCRIPTION:My way to Wellness is a new online nutrition program for low-income residents of Michigan offered by MSU Extension. It is self-paced\, so you can take it any time that works for you\, from anywhere! The course reviews how to make healthy food choices that works for you\, physical activity\, goal setting\, food safety\, reading a food label\, and more! The course has interactive activities and quizzes to aid in learning. You can also earn up to $60 in fruits and vegetables.  An email\, phone call or text with a link to join will be sent before the class begins. Pre-register by calling Kelsey Killinger\, Community Health Supervisor  (989) 343-3542 or by emailing Kelsey.killinger@mymichigan.org \n\nLesson 1: My Way to Wellness\nLesson 2: Your Nutrition and Physical Activity Needs\nLesson 3: Building a Healthy Plate\nLesson 4: Picking the Portion That’s Best for You\nLesson 5: What’s Inside? Reading Food Labels\nLesson 6: Fats and Sugars\nLesson 7: Meal Planning\nLesson 8: Fruits and Vegetables\nLesson 9: Healthy Habits\nLesson 10: Energy\, a Balancing Act\n\nThis program is for 18 and over residents with low-income in Arenac\, Gladwin\, Iosco\, Ogemaw\, Oscoda or Roscommon Counties. It is funded by the USDA’s Supplemental Nutrition Assistance Program-SNAP. Delivered by MSU Extension.
URL:https://www.oscodatownship.com/event/my-way-to-wellness/
CATEGORIES:Educational,Food
END:VEVENT
BEGIN:VEVENT
DTSTART;TZID=America/Detroit:20220512T190000
DTEND;TZID=America/Detroit:20220515T100000
DTSTAMP:20260420T203522
CREATED:20220413T203959Z
LAST-MODIFIED:20220413T203959Z
UID:7644-1652382000-1652608800@www.oscodatownship.com
SUMMARY:2022 MI Shore to Shore: Comfort
DESCRIPTION:Join Discover 4×4 Adventures as we lead from the eastern sunrise on Lake Huron to the western sunset on Lake Michigan. This three-day trek begins in Oscoda Michigan with a sunrise gathering on Lake Huron and finishes with a beach sunset on Lake Michigan. Let us lead you across the state using the Michigan trail system as our main route. Enjoy relaxing evenings\, a warm bed and shower each night. Any driver skill level and 4-wheel drive vehicle models are welcome. \nParticipants are responsible for their own food. Breakfast will be offered at each hotel. Lunch will be on the trail and dinner will be arranged at local restaurants in the areas we will be staying. All trail guiding and hotel arrangements will be included in registration. \nAll participants will receive one t-shirt and one patch per ticket purchased commemorating your successful trek. Additional shirts will be available for purchase. \nAttendee is required to have Michigan ORV and trail stickers.  \n*Disclaimer: Trail damage to vehicle may be possible*
URL:https://www.oscodatownship.com/event/2022-mi-shore-to-shore-comfort/
LOCATION:AmericInn Lodge & Suites of Oscoda\, 720 E Harbor Street\, Oscoda\, MI\, 48750\, United States
CATEGORIES:Cars
END:VEVENT
BEGIN:VEVENT
DTSTART;VALUE=DATE:20220513
DTEND;VALUE=DATE:20220516
DTSTAMP:20260420T203522
CREATED:20220117T141340Z
LAST-MODIFIED:20220117T141340Z
UID:6368-1652400000-1652659199@www.oscodatownship.com
SUMMARY:Tawas Point Migration
DESCRIPTION:Spend an amazing weekend witnessing a spectacular spring migration in northeastern Michigan along Lake Huron. View a wide variety of migratory birds as they rest and feed at Tawas Point State Park. From waterfowl to songbirds\, you’ll see it all! The Tawas Point Migration celebration offers nonstop birding activities and interesting information sure to entertain everyone. Whether you’re a beginner or a lifelong wildlife enthusiast\, this event is for you! \nFor more information about bird viewing options and event reservations\, visit our website or contact Ruth at 989-724-5679. We are also on Facebook at AuSable Valley Audubon.
URL:https://www.oscodatownship.com/event/tawas-point-migration/
LOCATION:Tawas Point State Park Lighthouse\, 686 Tawas Beach Road\, East Tawas\, MI\, 48730\, United States
CATEGORIES:Nature
END:VEVENT
BEGIN:VEVENT
DTSTART;VALUE=DATE:20220513
DTEND;VALUE=DATE:20220516
DTSTAMP:20260420T203522
CREATED:20220321T143543Z
LAST-MODIFIED:20220321T143543Z
UID:7398-1652400000-1652659199@www.oscodatownship.com
SUMMARY:Women's Wellness Weekend
DESCRIPTION:This weekend combines adventurous camp activities with relaxing spa services\, art classes and fitness classes. \nFor more details contact Camp Nissokone at (248) 887-4533
URL:https://www.oscodatownship.com/event/womens-wellness-weekend/
LOCATION:Camp Nissokone\, 6836 F41\, Oscoda\, MI\, 48750\, United States
CATEGORIES:arts and crafts,Camping,Fitness
END:VEVENT
BEGIN:VEVENT
DTSTART;TZID=America/Detroit:20220514T080000
DTEND;TZID=America/Detroit:20220514T130000
DTSTAMP:20260420T203522
CREATED:20220428T150516Z
LAST-MODIFIED:20220428T150516Z
UID:7778-1652515200-1652533200@www.oscodatownship.com
SUMMARY:Northeast Michigan Regional Farm Market
DESCRIPTION:
URL:https://www.oscodatownship.com/event/northeast-michigan-regional-farm-market-3/
LOCATION:Gateway Park\, 815 W. Lake Street\, Tawas City\, MI\, United States
CATEGORIES:Farmers Market
END:VEVENT
BEGIN:VEVENT
DTSTART;TZID=America/Detroit:20220514T090000
DTEND;TZID=America/Detroit:20220514T160000
DTSTAMP:20260420T203522
CREATED:20220413T202949Z
LAST-MODIFIED:20220413T203024Z
UID:7643-1652518800-1652544000@www.oscodatownship.com
SUMMARY:Glennie Sportsman Club & Mikado American Legion Gun Show
DESCRIPTION:The Glennie Sportsman Club & Mikado American Legion Gun Show will be held on May 14th\, 2022 in Mikado\, MI. This Mikado gun show is held at American Legion and hosted by Glennie Sportsman Club. All federal\, state and local firearm ordinances and laws must be obeyed. \n\nPlease Confirm All Gun Shows\nShows are liable to change dates\, times or possibly cancel without notice to the Gun Show Trader.\nMake sure to check with the Gun Show Coordinator for accurate dates\, times and information.
URL:https://www.oscodatownship.com/event/glennie-sportsman-club-mikado-american-legion-gun-show/
LOCATION:American Legion Post 254\, 2205 Alger Street\, Mikado\, MI\, 48745\, United States
CATEGORIES:Gun Range
END:VEVENT
BEGIN:VEVENT
DTSTART;TZID=America/Detroit:20220514T100000
DTEND;TZID=America/Detroit:20220514T140000
DTSTAMP:20260420T203522
CREATED:20220513T174815Z
LAST-MODIFIED:20220513T180442Z
UID:7949-1652522400-1652536800@www.oscodatownship.com
SUMMARY:Native Plant Sale
DESCRIPTION:It’s back! Native Plant Sale Fundraiser outside of the Tawas Point Lighthouse. \nA recreation passport is required for entrance to the park. \nJoin us to see\, learn about\, and buy native plants for your home or business. This event is scheduled until 2pm\, or until plant supplies are exhausted\, whichever comes first. \nPlants will be Michigan grown and Michigan genotypes\, from 2 & 2.5 inch pots priced at $4 and $6 respectively. Some quart or gallon pots may also be available as marked. Payment may be made by cash\, check or credit card via PayPal. \nSunrise Side Master Gardeners will be present to answer your questions and help with your selections. Click here for the list of plants\, subject to availability. \nFor more information contact Gloria Kershaw: gkerwalle@charter.net or call (989) 305-6196
URL:https://www.oscodatownship.com/event/native-plant-sale/
LOCATION:Tawas Point State Park Lighthouse\, 686 Tawas Beach Road\, East Tawas\, MI\, 48730\, United States
CATEGORIES:Educational,Fundraiser,Shopping
END:VEVENT
BEGIN:VEVENT
DTSTART;TZID=America/Detroit:20220514T200000
DTEND;TZID=America/Detroit:20220514T200000
DTSTAMP:20260420T203522
CREATED:20220503T175943Z
LAST-MODIFIED:20220503T175943Z
UID:7877-1652558400-1652558400@www.oscodatownship.com
SUMMARY:Omer City Limits Band
DESCRIPTION:Live at the Edelweiss!
URL:https://www.oscodatownship.com/event/omer-city-limits-band-2/
LOCATION:Edelweiss Tavern\, 107 S State Street\, Oscoda\, MI\, 48750\, United States
CATEGORIES:Concerts,Music
END:VEVENT
END:VCALENDAR