BEGIN:VCALENDAR
VERSION:2.0
PRODID:-// - ECPv6.15.0.1//NONSGML v1.0//EN
CALSCALE:GREGORIAN
METHOD:PUBLISH
X-ORIGINAL-URL:https://www.oscodatownship.com
X-WR-CALDESC:Events for 
REFRESH-INTERVAL;VALUE=DURATION:PT1H
X-Robots-Tag:noindex
X-PUBLISHED-TTL:PT1H
BEGIN:VTIMEZONE
TZID:America/Detroit
BEGIN:DAYLIGHT
TZOFFSETFROM:-0500
TZOFFSETTO:-0400
TZNAME:EDT
DTSTART:20220313T070000
END:DAYLIGHT
BEGIN:STANDARD
TZOFFSETFROM:-0400
TZOFFSETTO:-0500
TZNAME:EST
DTSTART:20221106T060000
END:STANDARD
END:VTIMEZONE
BEGIN:VEVENT
DTSTART;VALUE=DATE:20220325
DTEND;VALUE=DATE:20220528
DTSTAMP:20260420T092239
CREATED:20220325T174027Z
LAST-MODIFIED:20220325T174027Z
UID:7490-1648166400-1653695999@www.oscodatownship.com
SUMMARY:My Way To Wellness
DESCRIPTION:My way to Wellness is a new online nutrition program for low-income residents of Michigan offered by MSU Extension. It is self-paced\, so you can take it any time that works for you\, from anywhere! The course reviews how to make healthy food choices that works for you\, physical activity\, goal setting\, food safety\, reading a food label\, and more! The course has interactive activities and quizzes to aid in learning. You can also earn up to $60 in fruits and vegetables.  An email\, phone call or text with a link to join will be sent before the class begins. Pre-register by calling Kelsey Killinger\, Community Health Supervisor  (989) 343-3542 or by emailing Kelsey.killinger@mymichigan.org \n\nLesson 1: My Way to Wellness\nLesson 2: Your Nutrition and Physical Activity Needs\nLesson 3: Building a Healthy Plate\nLesson 4: Picking the Portion That’s Best for You\nLesson 5: What’s Inside? Reading Food Labels\nLesson 6: Fats and Sugars\nLesson 7: Meal Planning\nLesson 8: Fruits and Vegetables\nLesson 9: Healthy Habits\nLesson 10: Energy\, a Balancing Act\n\nThis program is for 18 and over residents with low-income in Arenac\, Gladwin\, Iosco\, Ogemaw\, Oscoda or Roscommon Counties. It is funded by the USDA’s Supplemental Nutrition Assistance Program-SNAP. Delivered by MSU Extension.
URL:https://www.oscodatownship.com/event/my-way-to-wellness/
CATEGORIES:Educational,Food
END:VEVENT
BEGIN:VEVENT
DTSTART;VALUE=DATE:20220516
DTEND;VALUE=DATE:20220520
DTSTAMP:20260420T092239
CREATED:20220308T182930Z
LAST-MODIFIED:20220308T182930Z
UID:7147-1652659200-1653004799@www.oscodatownship.com
SUMMARY:Just Jobs Week
DESCRIPTION:On-the-Spot Interviews with Multiple employees\nStay tuned for a more detailed list of participating employers and schedule\nEmployers\, one or two days for two hours. Contact us to reserve your space\n\nContact\nPhone: (989) 358-7295\nEmail: whatnext@alpenacc.edu
URL:https://www.oscodatownship.com/event/just-jobs-week/
LOCATION:Alpena Community College Oscoda Campus\, 5800 N Skeel Ave\, Oscoda\, MI\, 48750\, United States
CATEGORIES:Job Fair
END:VEVENT
BEGIN:VEVENT
DTSTART;TZID=America/Detroit:20220519T100000
DTEND;TZID=America/Detroit:20220519T140000
DTSTAMP:20260420T092239
CREATED:20220119T142113Z
LAST-MODIFIED:20220425T164738Z
UID:6447-1652954400-1652968800@www.oscodatownship.com
SUMMARY:Veterans Benefits Fair
DESCRIPTION:Michigan Veterans Affairs Agency and the Iosco County Veterans Affairs Office presents: Veterans Benefit Fair.\nGathering together to meet the needs of our Veterans \nHave a question on services or benefits?\nRegister here to attend! https://michiganvbf2022.eventbrite.com \nParticipating Agencies: \n\nVA Representatives\nDD-214 Retrieval\nVeteran Service Officers\nEmployment Resources\nHousing Resources\nHealth Care Resources\nEmployment Resources\nEducation Resources\nCommunity Non-Profits\nQuality of Life Resources\nAnd many more!\n\nVendors contact: Ryan Sanderson at (989) 448-9670\nEmail: SandersonR2@Michigan.gov \nVeterans Contact: Ron Whitney at (989) 362-6571\nEmail: RWhitney@IoscoCounty.org
URL:https://www.oscodatownship.com/event/veterans-benefits-fair/
LOCATION:Rushman Hall\, 821 Newman Street\, East Tawas\, MI\, 48730\, United States
CATEGORIES:Educational,Fair,Health,Job Fair
END:VEVENT
END:VCALENDAR