BEGIN:VCALENDAR
VERSION:2.0
PRODID:-// - ECPv6.15.0.1//NONSGML v1.0//EN
CALSCALE:GREGORIAN
METHOD:PUBLISH
X-ORIGINAL-URL:https://www.oscodatownship.com
X-WR-CALDESC:Events for 
REFRESH-INTERVAL;VALUE=DURATION:PT1H
X-Robots-Tag:noindex
X-PUBLISHED-TTL:PT1H
BEGIN:VTIMEZONE
TZID:America/Detroit
BEGIN:DAYLIGHT
TZOFFSETFROM:-0500
TZOFFSETTO:-0400
TZNAME:EDT
DTSTART:20230312T070000
END:DAYLIGHT
BEGIN:STANDARD
TZOFFSETFROM:-0400
TZOFFSETTO:-0500
TZNAME:EST
DTSTART:20231105T060000
END:STANDARD
END:VTIMEZONE
BEGIN:VEVENT
DTSTART;VALUE=DATE:20230814
DTEND;VALUE=DATE:20230821
DTSTAMP:20260425T090239
CREATED:20230807T191721Z
LAST-MODIFIED:20230807T191721Z
UID:8563-1691971200-1692575999@www.oscodatownship.com
SUMMARY:10th Annual Michigan Mud Jam 2023
DESCRIPTION:Come and celebrate the 10th Anniversary of this amazing annual event. Mud Jam is a one of a kind offroad spectacle held in Hale\, Michigan each August for fans all over the country. \nMonday: \nCORNHOLE TOURNAMENT 7:00PM \nTuesday: \nTRUCK SHOW 6:00PM-8:00PM \nDJ RYAN KERN IN THE GRAND STANDS 9:00PM \nWednesday:  \nPIT OPENS AT 11:00AM \nSXS RACES IN THE GRAND STANDS 8:00PM \nFOAM PARTY WITH DJ RYAN KERN FOLLOWING SXS RACES \nThursday: \nPIT OPENS AT 11:00AM \nMIDWEST RACE SIGN-UPS 10:00AM-12:00PM \nDRIVER’S MEETING 12:30PM \nMIDWEST RACE 2:00PM \n1 TON FUN SIGN-UPS 1:00PM-6:00PM \n1 TON FUN DRIVER’S MEETING 6:30PM \n1 TON FUN RACE IN THE GRAND STANDS 8:00PM \n80’s PARTY BY DJ RYAN KERN IN FRONT OF THE FOOD VENDORS FOLLOWING THE 1 TON FUN RACE \nFriday: \nPIT OPENS 11:00AM \nFREESTYLE SIGN-UP 10:00AM-1:00PM \nDRIVER’S MEETING 1:30PM \nWORLDS BIGGEST FREESTLE 3:00PM \nBIKINI CONTEST AND TUGS SIGN-UP 6:00PM-8:00PM \nBIKINI CONTEST 8:30PM \nTUGS DRIVER’S MEETING 8:00PM \nTUGS WILL START AFTER BIKINI CONTEST \nSaturday: \nPIT OPENS 11:00AM \nBOUNTY HOLE SIGN-UP 10:00AM-11:00AM \nBOUNTY HOLE DRIVER’S MEETING 11:30AM \nBOUNTY HOLE COMPETITION 12:00PM- \nHUCKFEST LONG JUMP COMPETITION SIGN-UP 10:00AM-11:00AM \nHUCKFEST DRIVER’S MEETING 11:30AM \nHUCKFEST WILL START AFTER BOUNTYHOLE COMPETITION \nTUGS SIGN-UP 5:00PM-8:00PM \nTUGS DRIVER’S MEETING 8:30PM \nTUGS 9:00PM \n 
URL:https://www.oscodatownship.com/event/10th-annual-michigan-mud-jam-2023/
LOCATION:Michigan Mud Jam\, 3600 M-65\, Hale\, MI\, 48739
CATEGORIES:Cars,Dancing,Entertainment,Festival,Food,Music,Race
ORGANIZER;CN="Michigan Mud Jam":MAILTO:mhmmj2020@yahoo.com
END:VEVENT
BEGIN:VEVENT
DTSTART;TZID=America/Detroit:20230820T100000
DTEND;TZID=America/Detroit:20230820T160000
DTSTAMP:20260425T090239
CREATED:20230808T145943Z
LAST-MODIFIED:20230808T145943Z
UID:8571-1692525600-1692547200@www.oscodatownship.com
SUMMARY:Sunday Market
DESCRIPTION:Welcome to the US-23 Sunday Market\, a vibrant and bustling marketplace nestled in the charming town of Oscoda\, Michigan. This weekly event serves as a hub for local businesses\, vendors\, and crafters of all kinds\, offering a delightful experience for both residents and visitors alike.
URL:https://www.oscodatownship.com/event/sunday-market-2/
LOCATION:Oscoda Beach Park\, 201 E River Rd\, Oscoda\, MI\, 48750\, United States
CATEGORIES:Farmers Market
ORGANIZER;CN="Kristen Nance":MAILTO:info@indigoblessingsllc.com
END:VEVENT
END:VCALENDAR