BEGIN:VCALENDAR
VERSION:2.0
PRODID:-// - ECPv6.15.0.1//NONSGML v1.0//EN
CALSCALE:GREGORIAN
METHOD:PUBLISH
X-ORIGINAL-URL:https://www.oscodatownship.com
X-WR-CALDESC:Events for 
REFRESH-INTERVAL;VALUE=DURATION:PT1H
X-Robots-Tag:noindex
X-PUBLISHED-TTL:PT1H
BEGIN:VTIMEZONE
TZID:America/Detroit
BEGIN:DAYLIGHT
TZOFFSETFROM:-0500
TZOFFSETTO:-0400
TZNAME:EDT
DTSTART:20230312T070000
END:DAYLIGHT
BEGIN:STANDARD
TZOFFSETFROM:-0400
TZOFFSETTO:-0500
TZNAME:EST
DTSTART:20231105T060000
END:STANDARD
END:VTIMEZONE
BEGIN:VEVENT
DTSTART;TZID=America/Detroit:20230823T150000
DTEND;TZID=America/Detroit:20230823T153000
DTSTAMP:20260425T160619
CREATED:20230722T202940Z
LAST-MODIFIED:20230722T202940Z
UID:8382-1692802800-1692804600@www.oscodatownship.com
SUMMARY:Fitness Fun
DESCRIPTION:
URL:https://www.oscodatownship.com/event/fitness-fun-7/
LOCATION:Robert J. Parks Library\, 6010 N Skeel Ave\, Oscoda\, MI\, 48750\, United States
CATEGORIES:Fitness
END:VEVENT
BEGIN:VEVENT
DTSTART;TZID=America/Detroit:20230823T160000
DTEND;TZID=America/Detroit:20230823T170000
DTSTAMP:20260425T160619
CREATED:20230722T203115Z
LAST-MODIFIED:20230722T213433Z
UID:8383-1692806400-1692810000@www.oscodatownship.com
SUMMARY:TOPS - Take Off Pounds Sensibly
DESCRIPTION:A practical guide to take off and keep off pounds sensibly. Men and women welcome. (Weigh-in time 4:00-5:00pm)
URL:https://www.oscodatownship.com/event/tops-take-off-weight-sensibly-5/
CATEGORIES:Educational
END:VEVENT
BEGIN:VEVENT
DTSTART;TZID=America/Detroit:20230823T190000
DTEND;TZID=America/Detroit:20230823T200000
DTSTAMP:20260425T160619
CREATED:20230821T142956Z
LAST-MODIFIED:20230821T142956Z
UID:8678-1692817200-1692820800@www.oscodatownship.com
SUMMARY:Memorial Service
DESCRIPTION:The Veterans Memorial Park will conduct a brief ceremony to remember the thirteen soldiers who lost their lives in August 2021 at Kabul\, Afghanistan. Thirteen Chrysanthemum plants will ceremoniously be placed at the base of the wall which will later this year hold the mural honoring all those who served in Desert Storm\, Afghanistan\, and Iraq. The public is invited to observe this brief ceremony as we honor the memory of these thirteen warriors.
URL:https://www.oscodatownship.com/event/memorial-service/
LOCATION:Oscoda Veterans Memorial Park\, 4000 Skeel Road\, Oscoda\, MI\, 48750\, United States
CATEGORIES:Memorial
ORGANIZER;CN="Oscoda Veterans Memorial Park":MAILTO:jbrinn@hotmail.com
END:VEVENT
END:VCALENDAR