BEGIN:VCALENDAR
VERSION:2.0
PRODID:-// - ECPv6.15.0.1//NONSGML v1.0//EN
CALSCALE:GREGORIAN
METHOD:PUBLISH
X-ORIGINAL-URL:https://www.oscodatownship.com
X-WR-CALDESC:Events for 
REFRESH-INTERVAL;VALUE=DURATION:PT1H
X-Robots-Tag:noindex
X-PUBLISHED-TTL:PT1H
BEGIN:VTIMEZONE
TZID:America/Detroit
BEGIN:DAYLIGHT
TZOFFSETFROM:-0500
TZOFFSETTO:-0400
TZNAME:EDT
DTSTART:20230312T070000
END:DAYLIGHT
BEGIN:STANDARD
TZOFFSETFROM:-0400
TZOFFSETTO:-0500
TZNAME:EST
DTSTART:20231105T060000
END:STANDARD
END:VTIMEZONE
BEGIN:VEVENT
DTSTART;VALUE=DATE:20230825
DTEND;VALUE=DATE:20230828
DTSTAMP:20260425T194501
CREATED:20230816T150125Z
LAST-MODIFIED:20230816T150125Z
UID:8669-1692921600-1693180799@www.oscodatownship.com
SUMMARY:Tawas Blues by the Bay!
DESCRIPTION:$35.00 Button for all three days! Food and drinks available\, rain or shine! \nFriday: \n6:00pm Deuce ‘n’ a Quarter \n8:00pm The Jim Cummings Band \nSaturday: \n12:00pm The Blues Guys \n2:00pm Rusty Wright Band \n4:00pm Chris Canas Band \n6:00pm Zac Harmon \n8:00pm The Jimmys \nSunday: \n1:00pm Carl Caballero and the Wreckage \n3:00pm Motor City Josh and the Big 3 \n 
URL:https://www.oscodatownship.com/event/tawas-blues-by-the-bay/
LOCATION:Harbor Park\, 407 W Bay St\, East Tawas\, MI\, 48730\, United States
CATEGORIES:Dancing,Music
END:VEVENT
BEGIN:VEVENT
DTSTART;TZID=America/Detroit:20230827T100000
DTEND;TZID=America/Detroit:20230827T160000
DTSTAMP:20260425T194501
CREATED:20230808T150105Z
LAST-MODIFIED:20230808T150105Z
UID:8572-1693130400-1693152000@www.oscodatownship.com
SUMMARY:Sunday Market
DESCRIPTION:Welcome to the US-23 Sunday Market\, a vibrant and bustling marketplace nestled in the charming town of Oscoda\, Michigan. This weekly event serves as a hub for local businesses\, vendors\, and crafters of all kinds\, offering a delightful experience for both residents and visitors alike.
URL:https://www.oscodatownship.com/event/sunday-market-3/
LOCATION:Oscoda Beach Park\, 201 E River Rd\, Oscoda\, MI\, 48750\, United States
CATEGORIES:Farmers Market
ORGANIZER;CN="Kristen Nance":MAILTO:info@indigoblessingsllc.com
END:VEVENT
BEGIN:VEVENT
DTSTART;TZID=America/Detroit:20230827T130000
DTEND;TZID=America/Detroit:20230827T130000
DTSTAMP:20260425T194501
CREATED:20230807T174238Z
LAST-MODIFIED:20230807T174238Z
UID:8554-1693141200-1693141200@www.oscodatownship.com
SUMMARY:War Dog Memorial Dedication Ceremony
DESCRIPTION:In honor of the New Military Working Dog Memorial Statue unveiling there will be a short ceremony to honor the service\, sacrifice\, and dedication of the amazing military working dogs.
URL:https://www.oscodatownship.com/event/war-dog-memorial-dedication-ceremony/
LOCATION:Oscoda Veterans Memorial Park\, 4000 Skeel Road\, Oscoda\, MI\, 48750\, United States
CATEGORIES:Memorial
ORGANIZER;CN="Oscoda Veterans Memorial Park":MAILTO:jbrinn@hotmail.com
END:VEVENT
BEGIN:VEVENT
DTSTART;TZID=America/Detroit:20230827T130000
DTEND;TZID=America/Detroit:20230827T143000
DTSTAMP:20260425T194501
CREATED:20230731T151655Z
LAST-MODIFIED:20230731T151655Z
UID:8525-1693141200-1693146600@www.oscodatownship.com
SUMMARY:Official Unveiling Military Working Dog Memorial Statue
DESCRIPTION:You are cordially invited to attend the Official Unveiling Ceremony for our new Military Working Dog Memorial Statue at the Pentagon Service Monument located at the Oscoda Veterans Memorial Park on August 27 at 1pm. \nWe will Officially Unveil the New Military Working Dog Memorial Statue. This is a life sized statue of a Military Handler and his K9 Companion. This statue simulates the handler sitting down pouring water from his canteen into his helmet with his dog beside him waiting to get a drink. The statue is carved out of granite. We will have guest speakers\, a musician\, several Handlers and a working K9s from Mission 22 Service Dog organization along with their booth\, Color Guard\, a display by the Michigan War Dog Memorial in South Lyons along with several Handlers and their K9s presenting a 21 second Howling for all Dogs who have passed and more that will be confirmed soon. Bring your lawn chairs if desired. The actual location is at the Pentagon Service Monument in close proximity to the M113A1 Static Display Vehicle.
URL:https://www.oscodatownship.com/event/official-unveiling-military-working-dog-memorial-statue/
LOCATION:Oscoda Veterans Memorial Park\, 4000 Skeel Road\, Oscoda\, MI\, 48750\, United States
CATEGORIES:Memorial
ORGANIZER;CN="Jospeh Brinn":MAILTO:jbrinn@hotmail.com
END:VEVENT
END:VCALENDAR