BEGIN:VCALENDAR
VERSION:2.0
PRODID:-// - ECPv6.15.0.1//NONSGML v1.0//EN
CALSCALE:GREGORIAN
METHOD:PUBLISH
X-ORIGINAL-URL:https://www.oscodatownship.com
X-WR-CALDESC:Events for 
REFRESH-INTERVAL;VALUE=DURATION:PT1H
X-Robots-Tag:noindex
X-PUBLISHED-TTL:PT1H
BEGIN:VTIMEZONE
TZID:America/Detroit
BEGIN:DAYLIGHT
TZOFFSETFROM:-0500
TZOFFSETTO:-0400
TZNAME:EDT
DTSTART:20230312T070000
END:DAYLIGHT
BEGIN:STANDARD
TZOFFSETFROM:-0400
TZOFFSETTO:-0500
TZNAME:EST
DTSTART:20231105T060000
END:STANDARD
END:VTIMEZONE
BEGIN:VEVENT
DTSTART;TZID=America/Detroit:20230907T180000
DTEND;TZID=America/Detroit:20230908T013000
DTSTAMP:20260425T071407
CREATED:20230829T152223Z
LAST-MODIFIED:20230829T152223Z
UID:8693-1694109600-1694136600@www.oscodatownship.com
SUMMARY:Tailgate Party!
DESCRIPTION:Who’s ready for some FOOTBALL? We sure are! Come on out Thursday September 7th for our Lions season opener tailgate party! We are grilling up brats and hotdogs! We have a wheel of drink specials as well! Every time the Lions take possession\, we will spin the wheel to reveal the what the new special will be! Party starts at 6pm!
URL:https://www.oscodatownship.com/event/tailgate-party/
LOCATION:Office Lounge and Grill\, 110 E Dwight Street\, Oscoda\, MI\, 48750\, United States
CATEGORIES:Entertainment
END:VEVENT
BEGIN:VEVENT
DTSTART;TZID=America/Detroit:20230907T210000
DTEND;TZID=America/Detroit:20230908T020000
DTSTAMP:20260425T071407
CREATED:20230729T175944Z
LAST-MODIFIED:20230729T180043Z
UID:8510-1694120400-1694138400@www.oscodatownship.com
SUMMARY:Oscoda Underground Presents: Karaoke Night
DESCRIPTION:Every Thursday Night\, the most amazing Karaoke experience. Cash prizes and great fun! Come on out to the hottest karaoke bar in town! Hosted by Oscoda Underground.
URL:https://www.oscodatownship.com/event/oscoda-underground-presents-karaoke-night-7/
LOCATION:The Edelweiss Tavern\, 107 State Street\, Oscoda\, MI\, 48750\, United States
CATEGORIES:Karaoke
ORGANIZER;CN="Oscoda Underground":MAILTO:digitalcreator@oscodaug.com
END:VEVENT
END:VCALENDAR