BEGIN:VCALENDAR
VERSION:2.0
PRODID:-// - ECPv6.15.0.1//NONSGML v1.0//EN
CALSCALE:GREGORIAN
METHOD:PUBLISH
X-ORIGINAL-URL:https://www.oscodatownship.com
X-WR-CALDESC:Events for 
REFRESH-INTERVAL;VALUE=DURATION:PT1H
X-Robots-Tag:noindex
X-PUBLISHED-TTL:PT1H
BEGIN:VTIMEZONE
TZID:America/Detroit
BEGIN:DAYLIGHT
TZOFFSETFROM:-0500
TZOFFSETTO:-0400
TZNAME:EDT
DTSTART:20230312T070000
END:DAYLIGHT
BEGIN:STANDARD
TZOFFSETFROM:-0400
TZOFFSETTO:-0500
TZNAME:EST
DTSTART:20231105T060000
END:STANDARD
END:VTIMEZONE
BEGIN:VEVENT
DTSTART;TZID=America/Detroit:20230909T110000
DTEND;TZID=America/Detroit:20230909T140000
DTSTAMP:20260425T211237
CREATED:20230722T210100Z
LAST-MODIFIED:20230722T210100Z
UID:8396-1694257200-1694268000@www.oscodatownship.com
SUMMARY:Self-Defense for Women
DESCRIPTION:
URL:https://www.oscodatownship.com/event/self-defense-for-women/
LOCATION:Robert J. Parks Library\, 6010 N Skeel Ave\, Oscoda\, MI\, 48750\, United States
CATEGORIES:Educational
END:VEVENT
BEGIN:VEVENT
DTSTART;TZID=America/Detroit:20230909T110000
DTEND;TZID=America/Detroit:20230909T230000
DTSTAMP:20260425T211237
CREATED:20230807T180831Z
LAST-MODIFIED:20230807T180831Z
UID:8559-1694257200-1694300400@www.oscodatownship.com
SUMMARY:4th Annual Oscoda Rock Fest!
DESCRIPTION:We’re putting out the 4th installment of original rock music to the Oscoda Township! We’ll have an array of activities for everyone and music that will keep you rocking!
URL:https://www.oscodatownship.com/event/4th-annual-oscoda-rock-fest/
LOCATION:Oscoda Veterans Memorial Park\, 4000 Skeel Road\, Oscoda\, MI\, 48750\, United States
CATEGORIES:Music
ORGANIZER;CN="Oscoda Rock Fest":MAILTO:contact@oscodarockfest.org
END:VEVENT
END:VCALENDAR