BEGIN:VCALENDAR
VERSION:2.0
PRODID:-// - ECPv6.15.0.1//NONSGML v1.0//EN
CALSCALE:GREGORIAN
METHOD:PUBLISH
X-ORIGINAL-URL:https://www.oscodatownship.com
X-WR-CALDESC:Events for 
REFRESH-INTERVAL;VALUE=DURATION:PT1H
X-Robots-Tag:noindex
X-PUBLISHED-TTL:PT1H
BEGIN:VTIMEZONE
TZID:America/Detroit
BEGIN:DAYLIGHT
TZOFFSETFROM:-0500
TZOFFSETTO:-0400
TZNAME:EDT
DTSTART:20230312T070000
END:DAYLIGHT
BEGIN:STANDARD
TZOFFSETFROM:-0400
TZOFFSETTO:-0500
TZNAME:EST
DTSTART:20231105T060000
END:STANDARD
END:VTIMEZONE
BEGIN:VEVENT
DTSTART;TZID=America/Detroit:20230911T130000
DTEND;TZID=America/Detroit:20230911T143000
DTSTAMP:20260425T235710
CREATED:20230722T210502Z
LAST-MODIFIED:20230722T210502Z
UID:8397-1694437200-1694442600@www.oscodatownship.com
SUMMARY:Inspiration Book Group
DESCRIPTION:
URL:https://www.oscodatownship.com/event/inspiration-book-group-7/
LOCATION:Robert J. Parks Library\, 6010 N Skeel Ave\, Oscoda\, MI\, 48750\, United States
CATEGORIES:Book Club
END:VEVENT
BEGIN:VEVENT
DTSTART;TZID=America/Detroit:20230911T183000
DTEND;TZID=America/Detroit:20230911T183000
DTSTAMP:20260425T235710
CREATED:20230908T144348Z
LAST-MODIFIED:20230908T144348Z
UID:8715-1694457000-1694457000@www.oscodatownship.com
SUMMARY:Public Hearing on Increasing Property Taxes
DESCRIPTION:The Board of Trustees of the Charter Township of Oscoda will hold a public hearing on a proposed increase if 0.2055 mills on the operating tax mileage rate to be levied in 2023. \nThe hearing will be held on Monday\, September 11\, 2023 at 6:30 p.m. at 6000 N. Skeel Avenue\, Oscoda\, MI 48750. \nThe date and the location of the meeting to take action on the proposed additional millage will increase operating revenues from as valorem property taxes 4.58% over such revenues generated by levies permitted without holding a hearing. If the proposed additional millage rate us nit approved the operating revenue will increase by 3.13% over the proceeding year’s operating revenue. \nThe taxing unit publishing this notice\, and identified below\, has complete authority to establish the number of mills to be levied from within its authorized millage range. \nThis noticed is published by: \nCharter Township of Oscoda \n110 S. State St. \nOscoda\, MI 48750 \n(989) 739-3211\, Ext. 2
URL:https://www.oscodatownship.com/event/public-hearing-on-increasing-property-taxes/
LOCATION:Shoreline Players Theater\, 6000 N Skeel Ave\, Oscoda\, MI\, 48750\, United States
CATEGORIES:Meeting
END:VEVENT
END:VCALENDAR