BEGIN:VCALENDAR
VERSION:2.0
PRODID:-// - ECPv6.15.0.1//NONSGML v1.0//EN
CALSCALE:GREGORIAN
METHOD:PUBLISH
X-ORIGINAL-URL:https://www.oscodatownship.com
X-WR-CALDESC:Events for 
REFRESH-INTERVAL;VALUE=DURATION:PT1H
X-Robots-Tag:noindex
X-PUBLISHED-TTL:PT1H
BEGIN:VTIMEZONE
TZID:America/Detroit
BEGIN:DAYLIGHT
TZOFFSETFROM:-0500
TZOFFSETTO:-0400
TZNAME:EDT
DTSTART:20230312T070000
END:DAYLIGHT
BEGIN:STANDARD
TZOFFSETFROM:-0400
TZOFFSETTO:-0500
TZNAME:EST
DTSTART:20231105T060000
END:STANDARD
END:VTIMEZONE
BEGIN:VEVENT
DTSTART;TZID=America/Detroit:20230913T150000
DTEND;TZID=America/Detroit:20230913T153000
DTSTAMP:20260425T211250
CREATED:20230722T211110Z
LAST-MODIFIED:20230722T211110Z
UID:8401-1694617200-1694619000@www.oscodatownship.com
SUMMARY:Fitness Fun
DESCRIPTION:
URL:https://www.oscodatownship.com/event/fitness-fun-13/
LOCATION:Robert J. Parks Library\, 6010 N Skeel Ave\, Oscoda\, MI\, 48750\, United States
CATEGORIES:Fitness
END:VEVENT
BEGIN:VEVENT
DTSTART;TZID=America/Detroit:20230913T160000
DTEND;TZID=America/Detroit:20230913T170000
DTSTAMP:20260425T211250
CREATED:20230722T211322Z
LAST-MODIFIED:20230722T213941Z
UID:8402-1694620800-1694624400@www.oscodatownship.com
SUMMARY:TOPS - Take Off Pounds Sensibly
DESCRIPTION:A practical guide to take off and keep off pounds sensibly. Men and women welcome. (Weigh-in time 4:00-5:00pm)
URL:https://www.oscodatownship.com/event/tops-take-off-weight-sensibly-8/
LOCATION:Robert J. Parks Library\, 6010 N Skeel Ave\, Oscoda\, MI\, 48750\, United States
CATEGORIES:Educational
END:VEVENT
END:VCALENDAR