BEGIN:VCALENDAR
VERSION:2.0
PRODID:-// - ECPv6.15.0.1//NONSGML v1.0//EN
CALSCALE:GREGORIAN
METHOD:PUBLISH
X-ORIGINAL-URL:https://www.oscodatownship.com
X-WR-CALDESC:Events for 
REFRESH-INTERVAL;VALUE=DURATION:PT1H
X-Robots-Tag:noindex
X-PUBLISHED-TTL:PT1H
BEGIN:VTIMEZONE
TZID:America/Detroit
BEGIN:DAYLIGHT
TZOFFSETFROM:-0500
TZOFFSETTO:-0400
TZNAME:EDT
DTSTART:20230312T070000
END:DAYLIGHT
BEGIN:STANDARD
TZOFFSETFROM:-0400
TZOFFSETTO:-0500
TZNAME:EST
DTSTART:20231105T060000
END:STANDARD
END:VTIMEZONE
BEGIN:VEVENT
DTSTART;TZID=America/Detroit:20230915T160000
DTEND;TZID=America/Detroit:20230917T160000
DTSTAMP:20260425T141042
CREATED:20230720T181634Z
LAST-MODIFIED:20230720T181805Z
UID:8270-1694793600-1694966400@www.oscodatownship.com
SUMMARY:Annual Paul Bunyan Festival 2023
DESCRIPTION:Carnival by Native Amusements! \nChainsaw carving competition and auction of onsite carved items. \nFood Trucks: \n\nZoo’s Tasty Eats\nDan the Smokin’ Man\n\n 
URL:https://www.oscodatownship.com/event/annual-paul-bunyan-festival-2023/
LOCATION:Furtaw Field\, 4986-4998 N State St\, Oscoda\, MI\, 48750\, United States
CATEGORIES:Festival
ORGANIZER;CN="Oscoda-Ausable Chamber of Commerce":MAILTO:director@oscodachamber.com
END:VEVENT
BEGIN:VEVENT
DTSTART;TZID=America/Detroit:20230916T210000
DTEND;TZID=America/Detroit:20230917T013000
DTSTAMP:20260425T141042
CREATED:20230809T143708Z
LAST-MODIFIED:20230809T143909Z
UID:8586-1694898000-1694914200@www.oscodatownship.com
SUMMARY:Oscoda Underground Presents: "Rising Temperatures"
DESCRIPTION:Oscoda Underground Presents: Rising Temperatures w/ live performances by Heat Above! A themed show with hints of Tennessee Fire\, Fireball\, and Scorching Sips. Don’t worry\, we will leave the air conditioning turned up along with the music!
URL:https://www.oscodatownship.com/event/oscoda-underground-presents-rising-temperatures/
LOCATION:The Edelweiss Tavern\, 107 State Street\, Oscoda\, MI\, 48750\, United States
CATEGORIES:Entertainment,Music
ORGANIZER;CN="Oscoda Underground":MAILTO:digitalcreator@oscodaug.com
END:VEVENT
BEGIN:VEVENT
DTSTART;TZID=America/Detroit:20230917T100000
DTEND;TZID=America/Detroit:20230917T160000
DTSTAMP:20260425T141042
CREATED:20230808T150608Z
LAST-MODIFIED:20230808T150608Z
UID:8575-1694944800-1694966400@www.oscodatownship.com
SUMMARY:Sunday Market
DESCRIPTION:Welcome to the US-23 Sunday Market\, a vibrant and bustling marketplace nestled in the charming town of Oscoda\, Michigan. This weekly event serves as a hub for local businesses\, vendors\, and crafters of all kinds\, offering a delightful experience for both residents and visitors alike.
URL:https://www.oscodatownship.com/event/sunday-market-6/
LOCATION:Oscoda Beach Park\, 201 E River Rd\, Oscoda\, MI\, 48750\, United States
CATEGORIES:Farmers Market
ORGANIZER;CN="Kristen Nance":MAILTO:info@indigoblessingsllc.com
END:VEVENT
END:VCALENDAR