BEGIN:VCALENDAR
VERSION:2.0
PRODID:-// - ECPv6.15.0.1//NONSGML v1.0//EN
CALSCALE:GREGORIAN
METHOD:PUBLISH
X-ORIGINAL-URL:https://www.oscodatownship.com
X-WR-CALDESC:Events for 
REFRESH-INTERVAL;VALUE=DURATION:PT1H
X-Robots-Tag:noindex
X-PUBLISHED-TTL:PT1H
BEGIN:VTIMEZONE
TZID:America/Detroit
BEGIN:DAYLIGHT
TZOFFSETFROM:-0500
TZOFFSETTO:-0400
TZNAME:EDT
DTSTART:20230312T070000
END:DAYLIGHT
BEGIN:STANDARD
TZOFFSETFROM:-0400
TZOFFSETTO:-0500
TZNAME:EST
DTSTART:20231105T060000
END:STANDARD
END:VTIMEZONE
BEGIN:VEVENT
DTSTART;TZID=America/Detroit:20230918T130000
DTEND;TZID=America/Detroit:20230918T143000
DTSTAMP:20260425T141038
CREATED:20230722T211617Z
LAST-MODIFIED:20230722T211617Z
UID:8403-1695042000-1695047400@www.oscodatownship.com
SUMMARY:Inspiration Book Group
DESCRIPTION:
URL:https://www.oscodatownship.com/event/inspiration-book-group-8/
LOCATION:Robert J. Parks Library\, 6010 N Skeel Ave\, Oscoda\, MI\, 48750\, United States
CATEGORIES:Book Club
END:VEVENT
BEGIN:VEVENT
DTSTART;TZID=America/Detroit:20230918T150000
DTEND;TZID=America/Detroit:20230918T153000
DTSTAMP:20260425T141038
CREATED:20230722T211721Z
LAST-MODIFIED:20230722T211721Z
UID:8404-1695049200-1695051000@www.oscodatownship.com
SUMMARY:Fitness Fun
DESCRIPTION:
URL:https://www.oscodatownship.com/event/fitness-fun-14/
LOCATION:Robert J. Parks Library\, 6010 N Skeel Ave\, Oscoda\, MI\, 48750\, United States
CATEGORIES:Fitness
END:VEVENT
END:VCALENDAR