BEGIN:VCALENDAR
VERSION:2.0
PRODID:-// - ECPv6.15.0.1//NONSGML v1.0//EN
CALSCALE:GREGORIAN
METHOD:PUBLISH
X-ORIGINAL-URL:https://www.oscodatownship.com
X-WR-CALDESC:Events for 
REFRESH-INTERVAL;VALUE=DURATION:PT1H
X-Robots-Tag:noindex
X-PUBLISHED-TTL:PT1H
BEGIN:VTIMEZONE
TZID:America/Detroit
BEGIN:DAYLIGHT
TZOFFSETFROM:-0500
TZOFFSETTO:-0400
TZNAME:EDT
DTSTART:20230312T070000
END:DAYLIGHT
BEGIN:STANDARD
TZOFFSETFROM:-0400
TZOFFSETTO:-0500
TZNAME:EST
DTSTART:20231105T060000
END:STANDARD
END:VTIMEZONE
BEGIN:VEVENT
DTSTART;TZID=America/Detroit:20230919T130000
DTEND;TZID=America/Detroit:20231204T143000
DTSTAMP:20260421T111442
CREATED:20230919T212753Z
LAST-MODIFIED:20230919T212753Z
UID:8783-1695128400-1701700200@www.oscodatownship.com
SUMMARY:Inspiration Book Group
DESCRIPTION:
URL:https://www.oscodatownship.com/event/inspiration-book-group-17/
LOCATION:Robert J. Parks Library\, 6010 N Skeel Ave\, Oscoda\, MI\, 48750\, United States
CATEGORIES:Book Club
END:VEVENT
BEGIN:VEVENT
DTSTART;TZID=America/Detroit:20230930T210000
DTEND;TZID=America/Detroit:20231001T013000
DTSTAMP:20260421T111442
CREATED:20230814T150657Z
LAST-MODIFIED:20230814T150657Z
UID:8662-1696107600-1696123800@www.oscodatownship.com
SUMMARY:Oscoda Underground Presents: End of Summer Blues w/ live performances by The Euclid Motel
DESCRIPTION:Oscoda Underground Presents: End of Summer Blues w/ live music performances by The Euclid Motel. Featuring Labatt Blue\, Blue Long Drinks\, and a Midnight Kiss! It might be the end of summer\, but the music will keep traveling down the road. Travel on in and enjoy the evening.
URL:https://www.oscodatownship.com/event/oscoda-underground-presents-end-of-summer-blues-w-live-performances-by-the-euclid-motel/
LOCATION:The Edelweiss Tavern\, 107 State Street\, Oscoda\, MI\, 48750\, United States
CATEGORIES:Entertainment,Music
ORGANIZER;CN="Oscoda Underground":MAILTO:digitalcreator@oscodaug.com
END:VEVENT
BEGIN:VEVENT
DTSTART;TZID=America/Detroit:20231001T100000
DTEND;TZID=America/Detroit:20231001T160000
DTSTAMP:20260421T111442
CREATED:20230808T151220Z
LAST-MODIFIED:20230808T151220Z
UID:8577-1696154400-1696176000@www.oscodatownship.com
SUMMARY:Sunday Market
DESCRIPTION:Welcome to the US-23 Sunday Market\, a vibrant and bustling marketplace nestled in the charming town of Oscoda\, Michigan. This weekly event serves as a hub for local businesses\, vendors\, and crafters of all kinds\, offering a delightful experience for both residents and visitors alike.
URL:https://www.oscodatownship.com/event/sunday-market-8/
LOCATION:Oscoda Beach Park\, 201 E River Rd\, Oscoda\, MI\, 48750\, United States
CATEGORIES:Farmers Market
ORGANIZER;CN="Kristen Nance":MAILTO:info@indigoblessingsllc.com
END:VEVENT
END:VCALENDAR