BEGIN:VCALENDAR
VERSION:2.0
PRODID:-// - ECPv6.15.0.1//NONSGML v1.0//EN
CALSCALE:GREGORIAN
METHOD:PUBLISH
X-ORIGINAL-URL:https://www.oscodatownship.com
X-WR-CALDESC:Events for 
REFRESH-INTERVAL;VALUE=DURATION:PT1H
X-Robots-Tag:noindex
X-PUBLISHED-TTL:PT1H
BEGIN:VTIMEZONE
TZID:America/Detroit
BEGIN:DAYLIGHT
TZOFFSETFROM:-0500
TZOFFSETTO:-0400
TZNAME:EDT
DTSTART:20230312T070000
END:DAYLIGHT
BEGIN:STANDARD
TZOFFSETFROM:-0400
TZOFFSETTO:-0500
TZNAME:EST
DTSTART:20231105T060000
END:STANDARD
END:VTIMEZONE
BEGIN:VEVENT
DTSTART;TZID=America/Detroit:20230919T130000
DTEND;TZID=America/Detroit:20231204T143000
DTSTAMP:20260424T225402
CREATED:20230919T212753Z
LAST-MODIFIED:20230919T212753Z
UID:8783-1695128400-1701700200@www.oscodatownship.com
SUMMARY:Inspiration Book Group
DESCRIPTION:
URL:https://www.oscodatownship.com/event/inspiration-book-group-17/
LOCATION:Robert J. Parks Library\, 6010 N Skeel Ave\, Oscoda\, MI\, 48750\, United States
CATEGORIES:Book Club
END:VEVENT
BEGIN:VEVENT
DTSTART;TZID=America/Detroit:20231003T103000
DTEND;TZID=America/Detroit:20231003T110000
DTSTAMP:20260424T225402
CREATED:20230919T161905Z
LAST-MODIFIED:20230919T161905Z
UID:8734-1696329000-1696330800@www.oscodatownship.com
SUMMARY:Knitting Group
DESCRIPTION:
URL:https://www.oscodatownship.com/event/knitting-group-50/
LOCATION:Robert J. Parks Library\, 6010 N Skeel Ave\, Oscoda\, MI\, 48750\, United States
CATEGORIES:arts and crafts
END:VEVENT
BEGIN:VEVENT
DTSTART;TZID=America/Detroit:20231003T120000
DTEND;TZID=America/Detroit:20231003T180000
DTSTAMP:20260424T225402
CREATED:20230925T214957Z
LAST-MODIFIED:20230925T214957Z
UID:8820-1696334400-1696356000@www.oscodatownship.com
SUMMARY:Blood Drive - American Legion
DESCRIPTION:
URL:https://www.oscodatownship.com/event/blood-drive-american-legion/
LOCATION:Oscoda American Legion Post 274\, 849 State Street\, Oscoda\, MI\, 48750\, United States
END:VEVENT
BEGIN:VEVENT
DTSTART;TZID=America/Detroit:20231003T133000
DTEND;TZID=America/Detroit:20231003T153000
DTSTAMP:20260424T225402
CREATED:20230919T162024Z
LAST-MODIFIED:20230919T162024Z
UID:8735-1696339800-1696347000@www.oscodatownship.com
SUMMARY:Oscoda Writers Group
DESCRIPTION:
URL:https://www.oscodatownship.com/event/oscoda-writers-group-33/
LOCATION:Robert J. Parks Library\, 6010 N Skeel Ave\, Oscoda\, MI\, 48750\, United States
CATEGORIES:Writing
END:VEVENT
END:VCALENDAR