BEGIN:VCALENDAR
VERSION:2.0
PRODID:-// - ECPv6.15.0.1//NONSGML v1.0//EN
CALSCALE:GREGORIAN
METHOD:PUBLISH
X-ORIGINAL-URL:https://www.oscodatownship.com
X-WR-CALDESC:Events for 
REFRESH-INTERVAL;VALUE=DURATION:PT1H
X-Robots-Tag:noindex
X-PUBLISHED-TTL:PT1H
BEGIN:VTIMEZONE
TZID:America/Detroit
BEGIN:DAYLIGHT
TZOFFSETFROM:-0500
TZOFFSETTO:-0400
TZNAME:EDT
DTSTART:20230312T070000
END:DAYLIGHT
BEGIN:STANDARD
TZOFFSETFROM:-0400
TZOFFSETTO:-0500
TZNAME:EST
DTSTART:20231105T060000
END:STANDARD
END:VTIMEZONE
BEGIN:VEVENT
DTSTART;TZID=America/Detroit:20230919T130000
DTEND;TZID=America/Detroit:20231204T143000
DTSTAMP:20260421T224354
CREATED:20230919T212753Z
LAST-MODIFIED:20230919T212753Z
UID:8783-1695128400-1701700200@www.oscodatownship.com
SUMMARY:Inspiration Book Group
DESCRIPTION:
URL:https://www.oscodatownship.com/event/inspiration-book-group-17/
LOCATION:Robert J. Parks Library\, 6010 N Skeel Ave\, Oscoda\, MI\, 48750\, United States
CATEGORIES:Book Club
END:VEVENT
BEGIN:VEVENT
DTSTART;TZID=America/Detroit:20231118T093000
DTEND;TZID=America/Detroit:20231118T143000
DTSTAMP:20260421T224354
CREATED:20231116T213508Z
LAST-MODIFIED:20231116T213508Z
UID:8928-1700299800-1700317800@www.oscodatownship.com
SUMMARY:Fall Crafters and Venders Show
DESCRIPTION:For Crafters: Rent is $20.00 per table. Table space is limited and available on a first come first served basis. Lunch will be available for purchase.
URL:https://www.oscodatownship.com/event/fall-crafters-and-venders-show/
LOCATION:Oscoda American Legion Post 274\, 849 State Street\, Oscoda\, MI\, 48750\, United States
CATEGORIES:arts and crafts
END:VEVENT
BEGIN:VEVENT
DTSTART;TZID=America/Detroit:20231118T130000
DTEND;TZID=America/Detroit:20231118T150000
DTSTAMP:20260421T224354
CREATED:20231116T210512Z
LAST-MODIFIED:20231116T210512Z
UID:8927-1700312400-1700319600@www.oscodatownship.com
SUMMARY:25th Annual Oscoda United Methodist Church FREE Community Thanksgiving Dinner
DESCRIPTION:Dinner Menu: \n-Roasted turkey with gravy\, stuffing\, green bean casserole\, potatoes/yams\, dinner rolls\, and apple or pumpkin pie. \n*Use the river road access.
URL:https://www.oscodatownship.com/event/25th-annual-oscoda-united-methodist-church-free-community-thanksgiving-dinner/
LOCATION:Oscoda United Methodist Church\, 120 West Dwight Street\, Oscoda\, MI\, 48750\, United States
CATEGORIES:Church
END:VEVENT
END:VCALENDAR