BEGIN:VCALENDAR
VERSION:2.0
PRODID:-// - ECPv6.15.0.1//NONSGML v1.0//EN
CALSCALE:GREGORIAN
METHOD:PUBLISH
X-ORIGINAL-URL:https://www.oscodatownship.com
X-WR-CALDESC:Events for 
REFRESH-INTERVAL;VALUE=DURATION:PT1H
X-Robots-Tag:noindex
X-PUBLISHED-TTL:PT1H
BEGIN:VTIMEZONE
TZID:UTC
BEGIN:STANDARD
TZOFFSETFROM:+0000
TZOFFSETTO:+0000
TZNAME:UTC
DTSTART:20210101T000000
END:STANDARD
END:VTIMEZONE
BEGIN:VTIMEZONE
TZID:America/Detroit
BEGIN:DAYLIGHT
TZOFFSETFROM:-0500
TZOFFSETTO:-0400
TZNAME:EDT
DTSTART:20210314T070000
END:DAYLIGHT
BEGIN:STANDARD
TZOFFSETFROM:-0400
TZOFFSETTO:-0500
TZNAME:EST
DTSTART:20211107T060000
END:STANDARD
END:VTIMEZONE
BEGIN:VEVENT
DTSTART;TZID=UTC:20211204T090000
DTEND;TZID=UTC:20211204T133000
DTSTAMP:20260422T041534
CREATED:20211117T215620Z
LAST-MODIFIED:20211117T220731Z
UID:5460-1638608400-1638624600@www.oscodatownship.com
SUMMARY:Sensory Saturdays
DESCRIPTION:Come play at our sensory stations!\nAges 3-10\, Adults must be present
URL:https://www.oscodatownship.com/event/sensory-saturdays-3/
LOCATION:Robert J. Parks Library\, 6010 N Skeel Ave\, Oscoda\, MI\, 48750\, United States
CATEGORIES:Kids
END:VEVENT
BEGIN:VEVENT
DTSTART;TZID=UTC:20211204T140000
DTEND;TZID=UTC:20211204T140000
DTSTAMP:20260422T041534
CREATED:20210914T210307Z
LAST-MODIFIED:20210914T210307Z
UID:4908-1638626400-1638626400@www.oscodatownship.com
SUMMARY:Reindeer Run/Walk
DESCRIPTION:This is a self-timed stroll encouraging the community to stay active during the Holidays. All shapes\, sizes\, ages and species welcome! \nSign in is from 1:30pm-2:00pm on Furtaw Field. \n 
URL:https://www.oscodatownship.com/event/reindeer-run-walk/
LOCATION:Furtaw Field\, 4986-4998 N State St\, Oscoda\, MI\, 48750\, United States
CATEGORIES:Fitness,Kids
END:VEVENT
BEGIN:VEVENT
DTSTART;TZID=UTC:20211211T090000
DTEND;TZID=UTC:20211211T133000
DTSTAMP:20260422T041534
CREATED:20211117T220817Z
LAST-MODIFIED:20211117T220817Z
UID:5461-1639213200-1639229400@www.oscodatownship.com
SUMMARY:Sensory Saturdays
DESCRIPTION:Come play at our sensory stations!\nAges 3-10\, Adults must be present
URL:https://www.oscodatownship.com/event/sensory-saturdays-4/
LOCATION:Robert J. Parks Library\, 6010 N Skeel Ave\, Oscoda\, MI\, 48750\, United States
CATEGORIES:Kids
END:VEVENT
BEGIN:VEVENT
DTSTART;TZID=America/Detroit:20211218T090000
DTEND;TZID=America/Detroit:20211218T110000
DTSTAMP:20260422T041534
CREATED:20211216T203908Z
LAST-MODIFIED:20211216T203908Z
UID:6131-1639818000-1639825200@www.oscodatownship.com
SUMMARY:Breakfast with Santa!
DESCRIPTION:Children 10 & under eat FREE with adult purchase of $4.99 or more.
URL:https://www.oscodatownship.com/event/breakfast-with-santa/
LOCATION:Big Boy\, 1222 South U.S. 23\, East Tawas\, MI\, United States
CATEGORIES:Food,Holiday,Kids
END:VEVENT
BEGIN:VEVENT
DTSTART;TZID=UTC:20211218T090000
DTEND;TZID=UTC:20211218T133000
DTSTAMP:20260422T041534
CREATED:20211117T220934Z
LAST-MODIFIED:20211117T220934Z
UID:5462-1639818000-1639834200@www.oscodatownship.com
SUMMARY:Sensory Saturdays
DESCRIPTION:Come play at our sensory stations!\nAges 3-10\, Adults must be present
URL:https://www.oscodatownship.com/event/sensory-saturdays-5/
LOCATION:Robert J. Parks Library\, 6010 N Skeel Ave\, Oscoda\, MI\, 48750\, United States
CATEGORIES:Kids
END:VEVENT
BEGIN:VEVENT
DTSTART;TZID=UTC:20211218T140000
DTEND;TZID=UTC:20211218T160000
DTSTAMP:20260422T041534
CREATED:20211130T004803Z
LAST-MODIFIED:20211130T004803Z
UID:5924-1639836000-1639843200@www.oscodatownship.com
SUMMARY:Christmas Party for children/grandchildren
DESCRIPTION:This is a Members Only Event Presented by The Oscoda Eagles Club. \nBring your children/grandchildren\, 12 years and younger\, down to the Eagles Club to enjoy a Christmas party!\nSign up your child to attend at the club! \n  \n  \nIf you would like to participate in this event\, become a member today!\nMembership applications are being received at the Aerie Social Room daily!
URL:https://www.oscodatownship.com/event/christmas-party-for-children-grandchildren/
LOCATION:Oscoda Eagles Aerie 4237\, 6685 N U.S. 23\, Oscoda\, MI\, 48750\, United States
CATEGORIES:Club,Holiday,Kids
END:VEVENT
BEGIN:VEVENT
DTSTART;TZID=America/Detroit:20211219T113000
DTEND;TZID=America/Detroit:20211219T140000
DTSTAMP:20260422T041534
CREATED:20211214T185434Z
LAST-MODIFIED:20211214T185434Z
UID:6125-1639913400-1639922400@www.oscodatownship.com
SUMMARY:Meet Anna and Elsa from Frozen
DESCRIPTION:Stop by to meet Anna and Elsa and enjoy a specialty drink! It’ll be so n-ICE for them to see you all again.
URL:https://www.oscodatownship.com/event/meet-anna-and-elsa-from-frozen/
LOCATION:Sunrise Kava Cafe\, 120 E River Rd\, Oscoda\, MI\, 48750\, United States
CATEGORIES:Holiday,Kids
END:VEVENT
BEGIN:VEVENT
DTSTART;TZID=America/Detroit:20211223T170000
DTEND;TZID=America/Detroit:20211223T200000
DTSTAMP:20260422T041534
CREATED:20211221T174154Z
LAST-MODIFIED:20211221T174154Z
UID:6142-1640278800-1640289600@www.oscodatownship.com
SUMMARY:Tawas Elks 3rd Annual Burgers with Santa
DESCRIPTION:It’s the most wonderful time of the year! Santa burgers are BACK! Join us at the Tawas Elks for Burgers with Santa. We’ll have our famous burgers\, chicken nugget basket for the kids as well as our full menu. Come on out and have dinner with Santa before he takes off for his big ride!\n$3 from each burger sold will go to the Tawas 8th grade Washington DC trip to help provide funding for students in need.\nWe have takeout available if you call the Lodge but are not planning on doing home visits this year. If you have a situation where you need a home visit or know of a family in need please let us know and we will make arrangements to spread some Christmas cheer!
URL:https://www.oscodatownship.com/event/tawas-elks-3rd-annual-burgers-with-santa/
LOCATION:Tawas Elks Lodge\, 1002 Monument Road\, Tawas City\, MI\, 48763\, United States
CATEGORIES:Food,Holiday,Kids
END:VEVENT
END:VCALENDAR