BEGIN:VCALENDAR
VERSION:2.0
PRODID:-// - ECPv6.15.0.1//NONSGML v1.0//EN
CALSCALE:GREGORIAN
METHOD:PUBLISH
X-ORIGINAL-URL:https://www.oscodatownship.com
X-WR-CALDESC:Events for 
REFRESH-INTERVAL;VALUE=DURATION:PT1H
X-Robots-Tag:noindex
X-PUBLISHED-TTL:PT1H
BEGIN:VTIMEZONE
TZID:UTC
BEGIN:STANDARD
TZOFFSETFROM:+0000
TZOFFSETTO:+0000
TZNAME:UTC
DTSTART:20210101T000000
END:STANDARD
END:VTIMEZONE
BEGIN:VEVENT
DTSTART;VALUE=DATE:20210725
DTEND;VALUE=DATE:20210801
DTSTAMP:20260425T233436
CREATED:20210716T211005Z
LAST-MODIFIED:20210716T211005Z
UID:4073-1627171200-1627775999@www.oscodatownship.com
SUMMARY:Iosco County Fair
DESCRIPTION:Visit the schedule of events posted here for more information.
URL:https://www.oscodatownship.com/event/iosco-county-fair/
LOCATION:Iosco County Fairgrounds\, 3716 M-65\, Hale\, MI\, United States
CATEGORIES:Fair,Kids,Show
END:VEVENT
BEGIN:VEVENT
DTSTART;TZID=UTC:20210728T183000
DTEND;TZID=UTC:20210728T183000
DTSTAMP:20260425T233436
CREATED:20210723T192910Z
LAST-MODIFIED:20210723T192940Z
UID:4304-1627497000-1627497000@www.oscodatownship.com
SUMMARY:Movie Night By The Pier
DESCRIPTION:This event is free! Music and games are provided 30 minutes prior to showtime! Bring lawn chairs\, blankets and snacks! \nMovies will be canceled due to inclement weather. \nRaya and the Last Dragon PG
URL:https://www.oscodatownship.com/event/movie-night-by-the-pier-5/
LOCATION:Oscoda Beach Park\, 201 E River Rd\, Oscoda\, MI\, 48750\, United States
CATEGORIES:Kids,Movies
END:VEVENT
END:VCALENDAR