BEGIN:VCALENDAR
VERSION:2.0
PRODID:-// - ECPv6.15.0.1//NONSGML v1.0//EN
CALSCALE:GREGORIAN
METHOD:PUBLISH
X-ORIGINAL-URL:https://www.oscodatownship.com
X-WR-CALDESC:Events for 
REFRESH-INTERVAL;VALUE=DURATION:PT1H
X-Robots-Tag:noindex
X-PUBLISHED-TTL:PT1H
BEGIN:VTIMEZONE
TZID:UTC
BEGIN:STANDARD
TZOFFSETFROM:+0000
TZOFFSETTO:+0000
TZNAME:UTC
DTSTART:20210101T000000
END:STANDARD
END:VTIMEZONE
BEGIN:VEVENT
DTSTART;TZID=UTC:20210804T183000
DTEND;TZID=UTC:20210804T183000
DTSTAMP:20260425T105633
CREATED:20210723T193055Z
LAST-MODIFIED:20210723T193055Z
UID:4305-1628101800-1628101800@www.oscodatownship.com
SUMMARY:Movie Night By The Pier
DESCRIPTION:This event is free! Music and games are provided 30 minutes prior to showtime! Bring lawn chairs\, blankets and snacks! \nMovies will be canceled due to inclement weather. \nImpractical Jokers: The Movie PG-13
URL:https://www.oscodatownship.com/event/movie-night-by-the-pier-6/
LOCATION:Oscoda Beach Park\, 201 E River Rd\, Oscoda\, MI\, 48750\, United States
CATEGORIES:Kids,Movies
END:VEVENT
END:VCALENDAR