BEGIN:VCALENDAR
VERSION:2.0
PRODID:-// - ECPv6.15.0.1//NONSGML v1.0//EN
CALSCALE:GREGORIAN
METHOD:PUBLISH
X-ORIGINAL-URL:https://www.oscodatownship.com
X-WR-CALDESC:Events for 
REFRESH-INTERVAL;VALUE=DURATION:PT1H
X-Robots-Tag:noindex
X-PUBLISHED-TTL:PT1H
BEGIN:VTIMEZONE
TZID:UTC
BEGIN:STANDARD
TZOFFSETFROM:+0000
TZOFFSETTO:+0000
TZNAME:UTC
DTSTART:20210101T000000
END:STANDARD
END:VTIMEZONE
BEGIN:VEVENT
DTSTART;TZID=UTC:20210807T110000
DTEND;TZID=UTC:20210807T130000
DTSTAMP:20260425T105815
CREATED:20210806T235710Z
LAST-MODIFIED:20210807T004859Z
UID:4610-1628334000-1628341200@www.oscodatownship.com
SUMMARY:Family Fun Day
DESCRIPTION:Come join us for a fun filled day of summertime enjoyment! Bring your kids\, friends and pets. \nMeet Smokey the Bear\, play games with your local police officers\, meet local volunteer firefighters\, get free books\, enjoy the ice cream sundae bar\, and face painting!
URL:https://www.oscodatownship.com/event/family-fun-day/
LOCATION:Robert J. Parks Library\, 6010 N Skeel Ave\, Oscoda\, MI\, 48750\, United States
CATEGORIES:Kids
END:VEVENT
END:VCALENDAR