BEGIN:VCALENDAR
VERSION:2.0
PRODID:-// - ECPv6.15.0.1//NONSGML v1.0//EN
CALSCALE:GREGORIAN
METHOD:PUBLISH
X-ORIGINAL-URL:https://www.oscodatownship.com
X-WR-CALDESC:Events for 
REFRESH-INTERVAL;VALUE=DURATION:PT1H
X-Robots-Tag:noindex
X-PUBLISHED-TTL:PT1H
BEGIN:VTIMEZONE
TZID:UTC
BEGIN:STANDARD
TZOFFSETFROM:+0000
TZOFFSETTO:+0000
TZNAME:UTC
DTSTART:20210101T000000
END:STANDARD
END:VTIMEZONE
BEGIN:VEVENT
DTSTART;TZID=UTC:20210829T163000
DTEND;TZID=UTC:20210829T180000
DTSTAMP:20260425T072720
CREATED:20210825T182815Z
LAST-MODIFIED:20210825T182815Z
UID:4788-1630254600-1630260000@www.oscodatownship.com
SUMMARY:Epic Dragon Awakens
DESCRIPTION:The Epic Dragon Light Show is created & designed by Eric Joseph of Erock Innovations. It features LED theatrical lighting\, moving lights\, kinetic lights\, LED pixels\, lasers\, video\, cold sparks\, fog\, fire\, & water. The concept is similar to that of an epic light display for a concert or Las Vegas show\, but without the performers. You will be immersed in an audio-visual spectacle as lights & special effects dance to the epic soundtrack which includes pirate & western themed songs that will take you on an emotional & mesmerizing journey. Run time is about 80 minutes with one intermission. The show is designed by Eric Joseph\, engineered by Greg Gjerde & programmed by Parker Cleary. Loud music & intense special effects\, featuring rapid lighting changes that are frequent. It is recommended that people who have known conditions with light induced seizures\, asthma\, a hard time breathing\, or loud music not attend. It is recommended you make reservations EARLY by calling SHORELINE THEATER at (989) 739-3586 & specify the number of tickets you want in each category\, date & time you want to attend. Staff will call you back within 3 business days to confirm your reservation. You may also reserve by email at: newsletter@shorelineplayers.org
URL:https://www.oscodatownship.com/event/epic-dragon-awakens-4/
LOCATION:Shoreline Players Theater\, 6000 N Skeel Ave\, Oscoda\, MI\, 48750\, United States
CATEGORIES:Kids,Laser Show,Show,Theater
END:VEVENT
END:VCALENDAR