BEGIN:VCALENDAR
VERSION:2.0
PRODID:-// - ECPv6.15.0.1//NONSGML v1.0//EN
CALSCALE:GREGORIAN
METHOD:PUBLISH
X-ORIGINAL-URL:https://www.oscodatownship.com
X-WR-CALDESC:Events for 
REFRESH-INTERVAL;VALUE=DURATION:PT1H
X-Robots-Tag:noindex
X-PUBLISHED-TTL:PT1H
BEGIN:VTIMEZONE
TZID:UTC
BEGIN:STANDARD
TZOFFSETFROM:+0000
TZOFFSETTO:+0000
TZNAME:UTC
DTSTART:20210101T000000
END:STANDARD
END:VTIMEZONE
BEGIN:VEVENT
DTSTART;TZID=UTC:20210903T160000
DTEND;TZID=UTC:20210906T140000
DTSTAMP:20260425T091408
CREATED:20210716T213451Z
LAST-MODIFIED:20210716T213451Z
UID:4078-1630684800-1630936800@www.oscodatownship.com
SUMMARY:Nissokone Family Camp
DESCRIPTION:Begins Friday September 3rd at 4pm and ends Monday September 6th at 2pm | Escape life’s many interruptions to relax and play together as a family. This event offers many activities from archery to ziplining\, arts & crafts\, canoeing/kayaking\, paintball\, horseback rides\, paintball and more! Three hearty meals will be provided each day. Each cabin can accommodate 2-16 people with private\, modern restrooms and hot showers. The fees for this weekend are as follows: \n\n\n\nFee for 17 and up years old\n$269.00\n\n\nMember Fee for 17 and up years old\n$50.00\n\n\nFee for 3 up to 17 years old\n$125.00\n\n\nMember Fee for 3 up to 17 years old\n$26.00\n\n\n\n For more information click here.
URL:https://www.oscodatownship.com/event/nissokone-family-camp/
LOCATION:Camp Nissokone\, 6836 F41\, Oscoda\, MI\, 48750\, United States
CATEGORIES:Camp,Kids,Program
END:VEVENT
BEGIN:VEVENT
DTSTART;TZID=UTC:20210904T080000
DTEND;TZID=UTC:20210905T080000
DTSTAMP:20260425T091408
CREATED:20210830T215057Z
LAST-MODIFIED:20210830T215057Z
UID:4856-1630742400-1630828800@www.oscodatownship.com
SUMMARY:Harmony Weekend Arts & Crafts Show
DESCRIPTION:Harrisville Arts Council’s annual juried Arts and Crafts Festival….over 250 booths of unique items from every genre and medium as well as over 8 food trucks!! \nThis show will also include a parade\, free concert and kid’s activities. \nSaturday: 8am-5pm \nSunday: 9am-4pm
URL:https://www.oscodatownship.com/event/harmony-weekend-arts-crafts-show/
LOCATION:Harrisville Courthouse Grounds\, 214 W. Main Street\, Harrisville\, MI\, 48740\, United States
CATEGORIES:arts and crafts,Concerts,Festival,Food,Kids,Parade,Shopping
END:VEVENT
BEGIN:VEVENT
DTSTART;TZID=UTC:20210904T163000
DTEND;TZID=UTC:20210904T180000
DTSTAMP:20260425T091408
CREATED:20210825T183132Z
LAST-MODIFIED:20210825T183132Z
UID:4790-1630773000-1630778400@www.oscodatownship.com
SUMMARY:Epic Dragon Awakens
DESCRIPTION:The Epic Dragon Light Show is created & designed by Eric Joseph of Erock Innovations. It features LED theatrical lighting\, moving lights\, kinetic lights\, LED pixels\, lasers\, video\, cold sparks\, fog\, fire\, & water. The concept is similar to that of an epic light display for a concert or Las Vegas show\, but without the performers. You will be immersed in an audio-visual spectacle as lights & special effects dance to the epic soundtrack which includes pirate & western themed songs that will take you on an emotional & mesmerizing journey. Run time is about 80 minutes with one intermission. The show is designed by Eric Joseph\, engineered by Greg Gjerde & programmed by Parker Cleary. Loud music & intense special effects\, featuring rapid lighting changes that are frequent. It is recommended that people who have known conditions with light induced seizures\, asthma\, a hard time breathing\, or loud music not attend. It is recommended you make reservations EARLY by calling SHORELINE THEATER at (989) 739-3586 & specify the number of tickets you want in each category\, date & time you want to attend. Staff will call you back within 3 business days to confirm your reservation. You may also reserve by email at: newsletter@shorelineplayers.org
URL:https://www.oscodatownship.com/event/epic-dragon-awakens-6/
LOCATION:Shoreline Players Theater\, 6000 N Skeel Ave\, Oscoda\, MI\, 48750\, United States
CATEGORIES:Kids,Laser Show,Show,Theater
END:VEVENT
BEGIN:VEVENT
DTSTART;TZID=UTC:20210904T193000
DTEND;TZID=UTC:20210904T210000
DTSTAMP:20260425T091408
CREATED:20210825T183305Z
LAST-MODIFIED:20210825T183305Z
UID:4791-1630783800-1630789200@www.oscodatownship.com
SUMMARY:Epic Dragon Awakens
DESCRIPTION:The Epic Dragon Light Show is created & designed by Eric Joseph of Erock Innovations. It features LED theatrical lighting\, moving lights\, kinetic lights\, LED pixels\, lasers\, video\, cold sparks\, fog\, fire\, & water. The concept is similar to that of an epic light display for a concert or Las Vegas show\, but without the performers. You will be immersed in an audio-visual spectacle as lights & special effects dance to the epic soundtrack which includes pirate & western themed songs that will take you on an emotional & mesmerizing journey. Run time is about 80 minutes with one intermission. The show is designed by Eric Joseph\, engineered by Greg Gjerde & programmed by Parker Cleary. Loud music & intense special effects\, featuring rapid lighting changes that are frequent. It is recommended that people who have known conditions with light induced seizures\, asthma\, a hard time breathing\, or loud music not attend. It is recommended you make reservations EARLY by calling SHORELINE THEATER at (989) 739-3586 & specify the number of tickets you want in each category\, date & time you want to attend. Staff will call you back within 3 business days to confirm your reservation. You may also reserve by email at:\nnewsletter@shorelineplayers.org
URL:https://www.oscodatownship.com/event/epic-dragon-awakens-7/
LOCATION:Shoreline Players Theater\, 6000 N Skeel Ave\, Oscoda\, MI\, 48750\, United States
CATEGORIES:Kids,Laser Show
END:VEVENT
END:VCALENDAR