BEGIN:VCALENDAR
VERSION:2.0
PRODID:-// - ECPv6.15.0.1//NONSGML v1.0//EN
CALSCALE:GREGORIAN
METHOD:PUBLISH
X-ORIGINAL-URL:https://www.oscodatownship.com
X-WR-CALDESC:Events for 
REFRESH-INTERVAL;VALUE=DURATION:PT1H
X-Robots-Tag:noindex
X-PUBLISHED-TTL:PT1H
BEGIN:VTIMEZONE
TZID:UTC
BEGIN:STANDARD
TZOFFSETFROM:+0000
TZOFFSETTO:+0000
TZNAME:UTC
DTSTART:20210101T000000
END:STANDARD
END:VTIMEZONE
BEGIN:VEVENT
DTSTART;VALUE=DATE:20211015
DTEND;VALUE=DATE:20211018
DTSTAMP:20260424T074908
CREATED:20211015T180017Z
LAST-MODIFIED:20211015T180017Z
UID:5117-1634256000-1634515199@www.oscodatownship.com
SUMMARY:Old Orchard Park's Trunk or Treat Weekend
DESCRIPTION:Join us for our annual site decorating\, color wagon rides\, trunk or treat!
URL:https://www.oscodatownship.com/event/old-orchard-parks-trunk-or-treat-weekend/
LOCATION:Old Orchard Park\, 883 E. River Road\, Oscoda\, MI\, 48750\, United States
CATEGORIES:Holiday,Kids
END:VEVENT
END:VCALENDAR