BEGIN:VCALENDAR
VERSION:2.0
PRODID:-// - ECPv6.15.0.1//NONSGML v1.0//EN
CALSCALE:GREGORIAN
METHOD:PUBLISH
X-ORIGINAL-URL:https://www.oscodatownship.com
X-WR-CALDESC:Events for 
REFRESH-INTERVAL;VALUE=DURATION:PT1H
X-Robots-Tag:noindex
X-PUBLISHED-TTL:PT1H
BEGIN:VTIMEZONE
TZID:UTC
BEGIN:STANDARD
TZOFFSETFROM:+0000
TZOFFSETTO:+0000
TZNAME:UTC
DTSTART:20210101T000000
END:STANDARD
END:VTIMEZONE
BEGIN:VEVENT
DTSTART;TZID=UTC:20211124T094500
DTEND;TZID=UTC:20211124T103000
DTSTAMP:20260424T074813
CREATED:20211117T214107Z
LAST-MODIFIED:20211117T214107Z
UID:5456-1637747100-1637749800@www.oscodatownship.com
SUMMARY:Preschool Storytime
DESCRIPTION:Story time and crafts!\nAges 3-5\, limited space available. Call the Robert J. Parks Library to reserve your spot!
URL:https://www.oscodatownship.com/event/preschool-storytime/
LOCATION:Robert J. Parks Library\, 6010 N Skeel Ave\, Oscoda\, MI\, 48750\, United States
CATEGORIES:arts and crafts,Kids
END:VEVENT
END:VCALENDAR