BEGIN:VCALENDAR
VERSION:2.0
PRODID:-// - ECPv6.15.0.1//NONSGML v1.0//EN
CALSCALE:GREGORIAN
METHOD:PUBLISH
X-ORIGINAL-URL:https://www.oscodatownship.com
X-WR-CALDESC:Events for 
REFRESH-INTERVAL;VALUE=DURATION:PT1H
X-Robots-Tag:noindex
X-PUBLISHED-TTL:PT1H
BEGIN:VTIMEZONE
TZID:UTC
BEGIN:STANDARD
TZOFFSETFROM:+0000
TZOFFSETTO:+0000
TZNAME:UTC
DTSTART:20210101T000000
END:STANDARD
END:VTIMEZONE
BEGIN:VTIMEZONE
TZID:America/Detroit
BEGIN:DAYLIGHT
TZOFFSETFROM:-0500
TZOFFSETTO:-0400
TZNAME:EDT
DTSTART:20210314T070000
END:DAYLIGHT
BEGIN:STANDARD
TZOFFSETFROM:-0400
TZOFFSETTO:-0500
TZNAME:EST
DTSTART:20211107T060000
END:STANDARD
BEGIN:DAYLIGHT
TZOFFSETFROM:-0500
TZOFFSETTO:-0400
TZNAME:EDT
DTSTART:20220313T070000
END:DAYLIGHT
BEGIN:STANDARD
TZOFFSETFROM:-0400
TZOFFSETTO:-0500
TZNAME:EST
DTSTART:20221106T060000
END:STANDARD
END:VTIMEZONE
BEGIN:VEVENT
DTSTART;TZID=UTC:20210917T160000
DTEND;TZID=UTC:20210919T160000
DTSTAMP:20260425T193941
CREATED:20210716T213744Z
LAST-MODIFIED:20210917T220613Z
UID:4080-1631894400-1632067200@www.oscodatownship.com
SUMMARY:Paul Bunyan Days
DESCRIPTION:Friday\, Sept. 17th 4pm-10pm. Saturday\, Sept. 18th 9am-10pm. Sunday\, Sept. 19th 10am-4pm. Children 16 and under are free. \nFamily Fun Tyme Amusements will be open beginning Friday from 4pm until close and open back up at 11am Saturday and Sunday till close.\nFriday: 4pm-10pm: At 4pm the Robery J. Parks Library and Bradley the Bookworm will share Tall Tales and Lumberjack tales. At 5pm there will be a tribute to the late Ed Glotfelty\, better known as Oscoda’s Paul Bunyan. Additionally the three hour quick carve Chainsaw competition will start and go until 8pm.\nSaturday: 9am-10pm: Beginning at 9am gates will be open to browse craft vendor items until 5pm. The Chainsaw competition will commence at 9:30am with the carving of their competition piece and they will carve until 5pm. At 10am visitors can head over to the ACC Oscoda Campus booth for a Lumber Jack and Jill look alike competition. Also at 10am the Parks Library will be back to do more fun activities until 2pm. Cornhole registration will begin at 11am and the tournament will commence at noon until 5pm. The Saturday round is the preliminary round and Sunday will be the finals. At noon\, there will be live music being played by Ronn Fryer and he will play until 4pm. At 2pm a Saw dust dig treasure hunt will be held for ages 2 to 12 years old. Registration for the beard competition will begin at 3pm and awards will be given at 4pm. At 5:15 pm there will be a chainsaw auction and judging\, awards will be given at 6pm. \nSunday: 10am-4pm: At 11am the carnival will open and the corn hole finals will commence. From 12:30pm-1:30pm there will be an opportunity to dress your pet up like Paul Bunyan and show them off. All prizes will be given at 3pm. Starting at 2pm Ronn Fryer will play live music. At 2pm registration will begin for the pie eating competition will be open.
URL:https://www.oscodatownship.com/event/paul-bunyan-days/
LOCATION:Furtaw Field\, 4986-4998 N State St\, Oscoda\, MI\, 48750\, United States
CATEGORIES:arts and crafts,Cornhole,Fair,Festival,Food,Game,Kids
END:VEVENT
BEGIN:VEVENT
DTSTART;TZID=UTC:20211012T080000
DTEND;TZID=UTC:20211012T170000
DTSTAMP:20260425T193941
CREATED:20211012T214626Z
LAST-MODIFIED:20211012T214626Z
UID:5065-1634025600-1634058000@www.oscodatownship.com
SUMMARY:Trunk or Treat Heroes & Villains
DESCRIPTION:The Lakewood Shores POA announces a “Trunk or Treat Heroes & Villains” \nBring your car and your ghosts and goblins to pass out candy at Aaron Park! \nThere will be prizes for the best costume and theme. \nApple Cider and Donuts will be available. \nThe Judging for costumes and vehicles will begin at 5pm \nThe POA is requesting empty milk or water jugs to light the trail for “Trunk or Treat”.\nPlease drop off clean\, empty jugs at 7245 Huntington Drive in front of the garage.
URL:https://www.oscodatownship.com/event/trunk-or-treat-heroes-villains/
LOCATION:Lakewood Shores\, 7751 Cedar Lake Rd\, Oscoda\, MI\, 48750\, United States
CATEGORIES:Holiday,Kids
END:VEVENT
BEGIN:VEVENT
DTSTART;VALUE=DATE:20211015
DTEND;VALUE=DATE:20211018
DTSTAMP:20260425T193941
CREATED:20211015T180017Z
LAST-MODIFIED:20211015T180017Z
UID:5117-1634256000-1634515199@www.oscodatownship.com
SUMMARY:Old Orchard Park's Trunk or Treat Weekend
DESCRIPTION:Join us for our annual site decorating\, color wagon rides\, trunk or treat!
URL:https://www.oscodatownship.com/event/old-orchard-parks-trunk-or-treat-weekend/
LOCATION:Old Orchard Park\, 883 E. River Road\, Oscoda\, MI\, 48750\, United States
CATEGORIES:Holiday,Kids
END:VEVENT
BEGIN:VEVENT
DTSTART;TZID=UTC:20211020T173000
DTEND;TZID=UTC:20211020T173000
DTSTAMP:20260425T193941
CREATED:20211012T213641Z
LAST-MODIFIED:20211012T213641Z
UID:5062-1634751000-1634751000@www.oscodatownship.com
SUMMARY:Spooktacular Magic Show with Joel Tracey
DESCRIPTION:Costumes are encouraged and everyone is promised eye-ball popping\, head-spinning\, balloon-popping fun! \nThere will be non-scary tricks\, music\, surprises\, prizes and giveaways!
URL:https://www.oscodatownship.com/event/spooktacular-magic-show-with-joel-tracey/
LOCATION:Robert J. Parks Library\, 6010 N Skeel Ave\, Oscoda\, MI\, 48750\, United States
CATEGORIES:Holiday,Kids,Show
END:VEVENT
BEGIN:VEVENT
DTSTART;TZID=UTC:20211023T110000
DTEND;TZID=UTC:20211023T160000
DTSTAMP:20260425T193941
CREATED:20211012T202822Z
LAST-MODIFIED:20211012T202822Z
UID:5054-1634986800-1635004800@www.oscodatownship.com
SUMMARY:Fall Harvest Block Party
DESCRIPTION:There will be games\, goodie bags\, crafts\, local business specials and much more! \nPony rides\, a petting zoo\, goats and sheet\, exotic animals\, including a camel will all be there! \nCathy’s Hallmark will be giving away free pumpkins with every purchase inside their store. \nHuron Community Bank will be serving Apple Cider and Roger’s Family Foods will be serving Caramel Apples and Donut Holes! \nDwight Street will be closed from 10am to 4pm for thru traffic.
URL:https://www.oscodatownship.com/event/fall-harvest-block-party/
LOCATION:Dwight Street\, Dwight Street\, Oscoda\, 48750\, United States
CATEGORIES:Festival,Food,Game,Kids
END:VEVENT
BEGIN:VEVENT
DTSTART;TZID=UTC:20211119T163000
DTEND;TZID=UTC:20211119T180000
DTSTAMP:20260425T193941
CREATED:20211117T213444Z
LAST-MODIFIED:20211117T213459Z
UID:5453-1637339400-1637344800@www.oscodatownship.com
SUMMARY:Family Holiday Card Craft Night
DESCRIPTION:All ages welcome!
URL:https://www.oscodatownship.com/event/family-holiday-card-craft-night/
LOCATION:Robert J. Parks Library\, 6010 N Skeel Ave\, Oscoda\, MI\, 48750\, United States
CATEGORIES:arts and crafts,Kids
END:VEVENT
BEGIN:VEVENT
DTSTART;TZID=UTC:20211120T090000
DTEND;TZID=UTC:20211120T133000
DTSTAMP:20260425T193941
CREATED:20211117T213823Z
LAST-MODIFIED:20211117T213823Z
UID:5454-1637398800-1637415000@www.oscodatownship.com
SUMMARY:Sensory Saturdays
DESCRIPTION:Come play at our sensory stations!\nThis is for ages 3-10 and adults must be present.
URL:https://www.oscodatownship.com/event/sensory-saturdays/
LOCATION:Robert J. Parks Library\, 6010 N Skeel Ave\, Oscoda\, MI\, 48750\, United States
CATEGORIES:Kids
END:VEVENT
BEGIN:VEVENT
DTSTART;TZID=UTC:20211124T094500
DTEND;TZID=UTC:20211124T103000
DTSTAMP:20260425T193941
CREATED:20211117T214107Z
LAST-MODIFIED:20211117T214107Z
UID:5456-1637747100-1637749800@www.oscodatownship.com
SUMMARY:Preschool Storytime
DESCRIPTION:Story time and crafts!\nAges 3-5\, limited space available. Call the Robert J. Parks Library to reserve your spot!
URL:https://www.oscodatownship.com/event/preschool-storytime/
LOCATION:Robert J. Parks Library\, 6010 N Skeel Ave\, Oscoda\, MI\, 48750\, United States
CATEGORIES:arts and crafts,Kids
END:VEVENT
BEGIN:VEVENT
DTSTART;TZID=UTC:20211127T090000
DTEND;TZID=UTC:20211127T133000
DTSTAMP:20260425T193941
CREATED:20211117T213904Z
LAST-MODIFIED:20211117T213904Z
UID:5455-1638003600-1638019800@www.oscodatownship.com
SUMMARY:Sensory Saturdays
DESCRIPTION:Come play at our sensory stations!\nThis is for ages 3-10 and adults must be present.
URL:https://www.oscodatownship.com/event/sensory-saturdays-2/
LOCATION:Robert J. Parks Library\, 6010 N Skeel Ave\, Oscoda\, MI\, 48750\, United States
CATEGORIES:Kids
END:VEVENT
BEGIN:VEVENT
DTSTART;TZID=UTC:20211204T090000
DTEND;TZID=UTC:20211204T133000
DTSTAMP:20260425T193941
CREATED:20211117T215620Z
LAST-MODIFIED:20211117T220731Z
UID:5460-1638608400-1638624600@www.oscodatownship.com
SUMMARY:Sensory Saturdays
DESCRIPTION:Come play at our sensory stations!\nAges 3-10\, Adults must be present
URL:https://www.oscodatownship.com/event/sensory-saturdays-3/
LOCATION:Robert J. Parks Library\, 6010 N Skeel Ave\, Oscoda\, MI\, 48750\, United States
CATEGORIES:Kids
END:VEVENT
BEGIN:VEVENT
DTSTART;TZID=UTC:20211204T140000
DTEND;TZID=UTC:20211204T140000
DTSTAMP:20260425T193941
CREATED:20210914T210307Z
LAST-MODIFIED:20210914T210307Z
UID:4908-1638626400-1638626400@www.oscodatownship.com
SUMMARY:Reindeer Run/Walk
DESCRIPTION:This is a self-timed stroll encouraging the community to stay active during the Holidays. All shapes\, sizes\, ages and species welcome! \nSign in is from 1:30pm-2:00pm on Furtaw Field. \n 
URL:https://www.oscodatownship.com/event/reindeer-run-walk/
LOCATION:Furtaw Field\, 4986-4998 N State St\, Oscoda\, MI\, 48750\, United States
CATEGORIES:Fitness,Kids
END:VEVENT
BEGIN:VEVENT
DTSTART;TZID=UTC:20211211T090000
DTEND;TZID=UTC:20211211T133000
DTSTAMP:20260425T193941
CREATED:20211117T220817Z
LAST-MODIFIED:20211117T220817Z
UID:5461-1639213200-1639229400@www.oscodatownship.com
SUMMARY:Sensory Saturdays
DESCRIPTION:Come play at our sensory stations!\nAges 3-10\, Adults must be present
URL:https://www.oscodatownship.com/event/sensory-saturdays-4/
LOCATION:Robert J. Parks Library\, 6010 N Skeel Ave\, Oscoda\, MI\, 48750\, United States
CATEGORIES:Kids
END:VEVENT
BEGIN:VEVENT
DTSTART;TZID=America/Detroit:20211218T090000
DTEND;TZID=America/Detroit:20211218T110000
DTSTAMP:20260425T193941
CREATED:20211216T203908Z
LAST-MODIFIED:20211216T203908Z
UID:6131-1639818000-1639825200@www.oscodatownship.com
SUMMARY:Breakfast with Santa!
DESCRIPTION:Children 10 & under eat FREE with adult purchase of $4.99 or more.
URL:https://www.oscodatownship.com/event/breakfast-with-santa/
LOCATION:Big Boy\, 1222 South U.S. 23\, East Tawas\, MI\, United States
CATEGORIES:Food,Holiday,Kids
END:VEVENT
BEGIN:VEVENT
DTSTART;TZID=UTC:20211218T090000
DTEND;TZID=UTC:20211218T133000
DTSTAMP:20260425T193941
CREATED:20211117T220934Z
LAST-MODIFIED:20211117T220934Z
UID:5462-1639818000-1639834200@www.oscodatownship.com
SUMMARY:Sensory Saturdays
DESCRIPTION:Come play at our sensory stations!\nAges 3-10\, Adults must be present
URL:https://www.oscodatownship.com/event/sensory-saturdays-5/
LOCATION:Robert J. Parks Library\, 6010 N Skeel Ave\, Oscoda\, MI\, 48750\, United States
CATEGORIES:Kids
END:VEVENT
BEGIN:VEVENT
DTSTART;TZID=UTC:20211218T140000
DTEND;TZID=UTC:20211218T160000
DTSTAMP:20260425T193941
CREATED:20211130T004803Z
LAST-MODIFIED:20211130T004803Z
UID:5924-1639836000-1639843200@www.oscodatownship.com
SUMMARY:Christmas Party for children/grandchildren
DESCRIPTION:This is a Members Only Event Presented by The Oscoda Eagles Club. \nBring your children/grandchildren\, 12 years and younger\, down to the Eagles Club to enjoy a Christmas party!\nSign up your child to attend at the club! \n  \n  \nIf you would like to participate in this event\, become a member today!\nMembership applications are being received at the Aerie Social Room daily!
URL:https://www.oscodatownship.com/event/christmas-party-for-children-grandchildren/
LOCATION:Oscoda Eagles Aerie 4237\, 6685 N U.S. 23\, Oscoda\, MI\, 48750\, United States
CATEGORIES:Club,Holiday,Kids
END:VEVENT
BEGIN:VEVENT
DTSTART;TZID=America/Detroit:20211219T113000
DTEND;TZID=America/Detroit:20211219T140000
DTSTAMP:20260425T193941
CREATED:20211214T185434Z
LAST-MODIFIED:20211214T185434Z
UID:6125-1639913400-1639922400@www.oscodatownship.com
SUMMARY:Meet Anna and Elsa from Frozen
DESCRIPTION:Stop by to meet Anna and Elsa and enjoy a specialty drink! It’ll be so n-ICE for them to see you all again.
URL:https://www.oscodatownship.com/event/meet-anna-and-elsa-from-frozen/
LOCATION:Sunrise Kava Cafe\, 120 E River Rd\, Oscoda\, MI\, 48750\, United States
CATEGORIES:Holiday,Kids
END:VEVENT
BEGIN:VEVENT
DTSTART;TZID=America/Detroit:20211223T170000
DTEND;TZID=America/Detroit:20211223T200000
DTSTAMP:20260425T193941
CREATED:20211221T174154Z
LAST-MODIFIED:20211221T174154Z
UID:6142-1640278800-1640289600@www.oscodatownship.com
SUMMARY:Tawas Elks 3rd Annual Burgers with Santa
DESCRIPTION:It’s the most wonderful time of the year! Santa burgers are BACK! Join us at the Tawas Elks for Burgers with Santa. We’ll have our famous burgers\, chicken nugget basket for the kids as well as our full menu. Come on out and have dinner with Santa before he takes off for his big ride!\n$3 from each burger sold will go to the Tawas 8th grade Washington DC trip to help provide funding for students in need.\nWe have takeout available if you call the Lodge but are not planning on doing home visits this year. If you have a situation where you need a home visit or know of a family in need please let us know and we will make arrangements to spread some Christmas cheer!
URL:https://www.oscodatownship.com/event/tawas-elks-3rd-annual-burgers-with-santa/
LOCATION:Tawas Elks Lodge\, 1002 Monument Road\, Tawas City\, MI\, 48763\, United States
CATEGORIES:Food,Holiday,Kids
END:VEVENT
BEGIN:VEVENT
DTSTART;TZID=America/Detroit:20220122T190000
DTEND;TZID=America/Detroit:20220122T190000
DTSTAMP:20260425T193941
CREATED:20220117T213701Z
LAST-MODIFIED:20220117T213701Z
UID:6440-1642878000-1642878000@www.oscodatownship.com
SUMMARY:Shoreline Players Winter Wonderland Grand Reopening
DESCRIPTION:Enjoy an evening of entertainment in our warm house featuring fabulous local talent and an epic light show finale. \n*Masks Encouraged 
URL:https://www.oscodatownship.com/event/shoreline-players-winter-wonderland-grand-reopening/
LOCATION:Shoreline Players Theater\, 6000 N Skeel Ave\, Oscoda\, MI\, 48750\, United States
CATEGORIES:Holiday,Kids,Laser Show,Show,Theater
END:VEVENT
BEGIN:VEVENT
DTSTART;TZID=America/Detroit:20220131T130000
DTEND;TZID=America/Detroit:20220131T140000
DTSTAMP:20260425T193941
CREATED:20220112T212507Z
LAST-MODIFIED:20220112T212507Z
UID:6263-1643634000-1643637600@www.oscodatownship.com
SUMMARY:Bullying Prevention Initiative Grant Technical Assistance Webinar
DESCRIPTION:Open to all interested parties!\nYou are invited to join Kate Jones from the Family Center for Children and Youth with Special Health Care Needs and Terra Depew from Children’s Special Health Care Services to learn about a new grant opportunity to reduce bullying for youth with special health care needs. The webinar will provide information on how to apply\, review the grant objectives\, and provide tips on creating a successful proposal. Attendees will have the opportunity to ask questions and gain clarification on grant guidelines.\nRegister on Eventbrite:\nhttps://www.eventbrite.com/e/bullying-prevention-iniative-grant-technical-assistance-webinar-tickets-208594570977\nContact us with questions at 517-241-7630 or 800-359-3722
URL:https://www.oscodatownship.com/event/bullying-prevention-initiative-grant-technical-assistance-webinar/
LOCATION:MI
CATEGORIES:Educational,Kids
END:VEVENT
BEGIN:VEVENT
DTSTART;TZID=America/Detroit:20220201T120000
DTEND;TZID=America/Detroit:20220201T150000
DTSTAMP:20260425T193941
CREATED:20220120T161403Z
LAST-MODIFIED:20220120T161624Z
UID:6453-1643716800-1643727600@www.oscodatownship.com
SUMMARY:Valentine Magic Mail
DESCRIPTION:I love you & the princesses do too! \nPackages ship February 1st through USPS. \nMagic Mail! [FREE!] \n– Princess Valentine sent to you from our kingdom! \nBippity Boppity Bows! [$30] \n– Includes 5 Princess Bows\, Princess Valentine\, Princess Stickers \nLimited to 25 friends \nI Love U…nicorn Pack [$65] \n– Includes a Pink Plush Unicorn + Unicorn Adoption Certificate from Rapunzel + Princess Valentine + 5 Princess Bows + Princess Autograph Cards + Princess Stickers + Pink Princess Rhinestone Tiara \nLimited to 15 Friends \nRegister here
URL:https://www.oscodatownship.com/event/valentine-magic-mail/
LOCATION:Paid Online Event
CATEGORIES:Holiday,Kids
END:VEVENT
BEGIN:VEVENT
DTSTART;TZID=America/Detroit:20220212T090000
DTEND;TZID=America/Detroit:20220212T190000
DTSTAMP:20260425T193941
CREATED:20220113T201802Z
LAST-MODIFIED:20220211T141911Z
UID:6264-1644656400-1644692400@www.oscodatownship.com
SUMMARY:Alpena Ice Festival
DESCRIPTION:All events are free & open to the public. Join us for a day of winter fun at Mich-e-kewis Park (9 am- 3 pm) & in Downtown Alpena (5 pm- 9pm). \n9:00 am-3:00 pm Mich-e-ke-wis Park (Alpena Ice Fest – Family Fun Day) \n9:00 am-3:00 pm: Farmers Market (expanded hours and additional vendors)– warming shelter and bathrooms\n9:00 am-12:00 pm:  Amateur Snowman Building/ Snow Angel Contest (for kids\, families\, friends). Awards for largest\, most creative\, most spirited.\n10:00-11:00 am: Dueling ice sculptors – Ice Creations of Napoleon\, Ohio\nSeveral other sculptures will be on display throughout the day\, including featured sculptures by local sculptor Autumn Bildson and local restaurateur\, Jimmy Chen.\n11:00 am-3:00 pm: Amateur snowshoe and cross-country ski races (grab your shoes or skis and make a run for it!) Contests organized on the half hour. Bring your own shoes and skis. Thunder Bay Trails Association will have some skis and boots available for use.\n12:00-3:00 pm: Huge bonfire – huddle around the fire courtesy of our very own City of Alpena Fire Department!\n1\,000 free Smores (prepackaged and ready to eat)\, courtesy of Thunder Bay Arts 50th Anniversary\n12:00-2:00 pm: Horse and wagon rides courtesy of Dan Kirchner\n1:00-2:00 pm: Amateur fat tire bike races – BYOB and show us how it’s done!\n1:00-2:00 pm: Siberian Husky sled dogs – “Gone to the Snow Dogs” courtesy of Jessica Hatch \nPlus…all day long from 9:00 am-3:00 pm: \n\nFat Freddies Food Truck—featuring TONY BURGERS and much more\nSnow sledding – bring your sled and go for it!\nIce Bowling – Knock ‘em down\nIce Frame for Selfies @ the ALPENA Letters Sculpture—courtesy of the Alpena Convention & Visitors Bureau\n4-H activity and other activities at various intervals throughout the day…\n\n5:00 – 9:00 pm- Fire & Ice Downtown Alpena \n\nIce Throne in Culligan Plaza—courtesy of the Alpena Convention & Visitors Bureau and Alpena Downtown Development Authority\n27 Ice Sculptures throughout downtown sponsored by local businesses\nFire bowls to warm up by in Culligan Plaza & Pocket Park\nScavenger hunt of downtown sculptures with a $100 Downtown Dollars drawing courtesy of DDA. Details available here.\nExpanded store hours until 7:00 pm with specials\nThemed Fire & Ice cocktails at downtown restaurants and bars\nLive music from the Alpena Street Performers from 6-8 pm at HopSide Brewery\, Mango’s Tequila Bar\, Thunder Bay Winery\, and Thunder Bay Arts\n\nGrab a hot chocolate or a “hot toddy” from a local restaurant and stroll the Social District downtown looking at ice sculptures while visiting the stores with extended specials. Check out the preview of Restaurant Week!
URL:https://www.oscodatownship.com/event/alpena-ice-festival/
LOCATION:Mich-e-ke-wis Park\, 1302 S State Ave\, Alpena\, MI\, 49707\, United States
CATEGORIES:Festival,Food,Kids,Race,Shopping,Show
END:VEVENT
BEGIN:VEVENT
DTSTART;TZID=America/Detroit:20220212T110000
DTEND;TZID=America/Detroit:20220212T123000
DTSTAMP:20260425T193941
CREATED:20220120T161844Z
LAST-MODIFIED:20220120T161844Z
UID:6455-1644663600-1644669000@www.oscodatownship.com
SUMMARY:Kids in the Kitchen Chocolate
DESCRIPTION:Celebrate St. Valentine’s Day by making sharable recipes featuring chocolate!\n\n\n\n\n\n\n\n\nWe are celebrating St. Valentine’s Day and making recipes featuring chocolate that are perfect for sharing! Recipes will be emailed out a minimum of one week prior to the class. Participants are encouraged to cook along! \nFree Online Event\, Register here
URL:https://www.oscodatownship.com/event/kids-in-the-kitchen-chocolate/
LOCATION:MI
CATEGORIES:Food,Holiday,Kids
END:VEVENT
BEGIN:VEVENT
DTSTART;TZID=America/Detroit:20220215T103000
DTEND;TZID=America/Detroit:20220215T103000
DTSTAMP:20260425T193941
CREATED:20220209T181939Z
LAST-MODIFIED:20220209T181939Z
UID:6581-1644921000-1644921000@www.oscodatownship.com
SUMMARY:Storytime for Preschoolers
DESCRIPTION:The Iosco Arenac District Library will hold “Storytime for Preschoolers” book reading\, activities and crafts
URL:https://www.oscodatownship.com/event/storytime-for-preschoolers/
LOCATION:East Tawas Library\, 760 Newman Street\, East Tawas\, MI\, 48730\, United States
CATEGORIES:Kids
END:VEVENT
BEGIN:VEVENT
DTSTART;TZID=America/Detroit:20220222T103000
DTEND;TZID=America/Detroit:20220222T103000
DTSTAMP:20260425T193941
CREATED:20220209T182034Z
LAST-MODIFIED:20220209T182034Z
UID:6583-1645525800-1645525800@www.oscodatownship.com
SUMMARY:Storytime for Preschoolers
DESCRIPTION:The Iosco Arenac District Library will hold “Storytime for Preschoolers” book reading\, activities and crafts
URL:https://www.oscodatownship.com/event/storytime-for-preschoolers-2/
LOCATION:East Tawas Library\, 760 Newman Street\, East Tawas\, MI\, 48730\, United States
CATEGORIES:Kids
END:VEVENT
BEGIN:VEVENT
DTSTART;TZID=America/Detroit:20220226T100000
DTEND;TZID=America/Detroit:20220226T160000
DTSTAMP:20260425T193941
CREATED:20220225T205252Z
LAST-MODIFIED:20220225T205252Z
UID:6979-1645869600-1645891200@www.oscodatownship.com
SUMMARY:10th Annual Antique Snowmobile Show
DESCRIPTION:Hosted by the Ogemaw Hills Snowmobile Club. \nActivities include guided vintage sled ride(s)\, campfire all day\, a non-judged Vintage Snowmobile Show\, food truck on site for purchases.   Historic vintage show videos will be playing throughout the day.  This event brings family fun in Michigan’s awesome Winter Wonderland.  OHSC’s 2021 event had 212 registered vintage sleds plus and at least another 100 unregistered vintage sleds.  Over 1000 people shared in the festivities of our well attended 53rd Anniversary celebration.  One hundred ten (110) vintage sleds took to the trails and enjoyed a ride in the beautiful hills of Ogemaw. \nOHSC’s 2022 54th Anniversary & 10th Vintage Sled Show/Ride\, you’ll have another chance at winning an awesome\, excellent condition YOUTH’s 2000 Arctic Cat ZR120 youth sled.  Tickets are (1) for $5.00 or (3) tickets for $10.00. Winner will have the option of $500.00 cash prize in lieu of raffled snowmobile.  Tickets are available for PayPal purchase.  CLICK to purchase tickets.  Tickets will be sent via USPS or in lieu of USPS\, an email address can be entered on the PayPal ticket page to receive a photo of purchased ticket(s).  DRAWING WILL BE HELD AT OHSC’s 54th ANNIVERSARY & 10th VINTAGE SLED SHOW/RIDE.  NEED NOT BE PRESENT TO WIN.
URL:https://www.oscodatownship.com/event/10th-annual-antique-snowmobile-show/
LOCATION:Ogemaw Hills Snowmobile Clubhouse/Trailhead\, 2846 North Fairview Road\, West Branch\, MI\, 48661\, United States
CATEGORIES:Festival,Kids
END:VEVENT
BEGIN:VEVENT
DTSTART;TZID=America/Detroit:20220301T103000
DTEND;TZID=America/Detroit:20220301T103000
DTSTAMP:20260425T193941
CREATED:20220209T182442Z
LAST-MODIFIED:20220209T182813Z
UID:6584-1646130600-1646130600@www.oscodatownship.com
SUMMARY:Storytime for Preschoolers
DESCRIPTION:The Iosco Arenac District Library will hold “Storytime for Preschoolers” book reading\, activities and crafts
URL:https://www.oscodatownship.com/event/storytime-for-preschoolers-3/
LOCATION:East Tawas Library\, 760 Newman Street\, East Tawas\, MI\, 48730\, United States
CATEGORIES:Kids
END:VEVENT
BEGIN:VEVENT
DTSTART;TZID=America/Detroit:20220308T103000
DTEND;TZID=America/Detroit:20220308T103000
DTSTAMP:20260425T193941
CREATED:20220209T182637Z
LAST-MODIFIED:20220209T182824Z
UID:6585-1646735400-1646735400@www.oscodatownship.com
SUMMARY:Storytime for Preschoolers
DESCRIPTION:The Iosco Arenac District Library will hold “Storytime for Preschoolers” book reading\, activities and crafts
URL:https://www.oscodatownship.com/event/storytime-for-preschoolers-4/
LOCATION:East Tawas Library\, 760 Newman Street\, East Tawas\, MI\, 48730\, United States
CATEGORIES:Kids
END:VEVENT
BEGIN:VEVENT
DTSTART;TZID=America/Detroit:20220313T130000
DTEND;TZID=America/Detroit:20220313T150000
DTSTAMP:20260425T193941
CREATED:20220119T145516Z
LAST-MODIFIED:20220119T145516Z
UID:6448-1647176400-1647183600@www.oscodatownship.com
SUMMARY:Little League Registration
DESCRIPTION:Huron East Knothole Association 2022 \nDivision ages: \n\nTee Ball (Baseball & Softball) 4-7 years\nCoach Pitch (Baseball & Softball) 6-8 years\nMinors (Baseball & Softball) 8-10 years\nJunior League (Baseball & Softball) 12-14 years\n\nSign-Up Fees: \n\n$45 per Child\n$110 Family Pricing (for 3 or more children)\nLate Registration: No late registration\n\nOnline Registration: \nFebruary 1st- March 18th\nhttps://leagues.bluesombrero.com/heka  \nAll parents or guardians must bring the participants birth certificate and three documents verifying residency OR one document supporting school enrollment. 
URL:https://www.oscodatownship.com/event/little-league-registration/
LOCATION:Oscoda Area Schools\, 3550 E River Rd\, Oscoda\, MI\, 48750\, United States
CATEGORIES:Kids
END:VEVENT
BEGIN:VEVENT
DTSTART;TZID=America/Detroit:20220315T103000
DTEND;TZID=America/Detroit:20220315T103000
DTSTAMP:20260425T193941
CREATED:20220209T182717Z
LAST-MODIFIED:20220209T182832Z
UID:6586-1647340200-1647340200@www.oscodatownship.com
SUMMARY:Storytime for Preschoolers
DESCRIPTION:The Iosco Arenac District Library will hold “Storytime for Preschoolers” book reading\, activities and crafts
URL:https://www.oscodatownship.com/event/storytime-for-preschoolers-5/
LOCATION:East Tawas Library\, 760 Newman Street\, East Tawas\, MI\, 48730\, United States
CATEGORIES:Kids
END:VEVENT
BEGIN:VEVENT
DTSTART;TZID=America/Detroit:20220316T170000
DTEND;TZID=America/Detroit:20220316T183000
DTSTAMP:20260425T193941
CREATED:20220119T145704Z
LAST-MODIFIED:20220119T150102Z
UID:6449-1647450000-1647455400@www.oscodatownship.com
SUMMARY:Little League Registration
DESCRIPTION:Huron East Knothole Association 2022 \nDivision ages: \n\nTee Ball (Baseball & Softball) 4-7 years\nCoach Pitch (Baseball & Softball) 6-8 years\nMinors (Baseball & Softball) 8-10 years\nJunior League (Baseball & Softball) 12-14 years\n\nSign-Up Fees: \n\n$45 per Child\n$110 Family Pricing (for 3 or more children)\nLate Registration: No late registration\n\nOnline Registration: \nFebruary 1st- March 18th\nhttps://leagues.bluesombrero.com/heka  \nAll parents or guardians must bring the participants birth certificate and three documents verifying residency OR one document supporting school enrollment. 
URL:https://www.oscodatownship.com/event/little-league-registration-2/
LOCATION:Oscoda Area Schools\, 3550 E River Rd\, Oscoda\, MI\, 48750\, United States
CATEGORIES:Kids
END:VEVENT
END:VCALENDAR