BEGIN:VCALENDAR
VERSION:2.0
PRODID:-// - ECPv6.15.0.1//NONSGML v1.0//EN
CALSCALE:GREGORIAN
METHOD:PUBLISH
X-ORIGINAL-URL:https://www.oscodatownship.com
X-WR-CALDESC:Events for 
REFRESH-INTERVAL;VALUE=DURATION:PT1H
X-Robots-Tag:noindex
X-PUBLISHED-TTL:PT1H
BEGIN:VTIMEZONE
TZID:America/Detroit
BEGIN:DAYLIGHT
TZOFFSETFROM:-0500
TZOFFSETTO:-0400
TZNAME:EDT
DTSTART:20220313T070000
END:DAYLIGHT
BEGIN:STANDARD
TZOFFSETFROM:-0400
TZOFFSETTO:-0500
TZNAME:EST
DTSTART:20221106T060000
END:STANDARD
END:VTIMEZONE
BEGIN:VTIMEZONE
TZID:UTC
BEGIN:STANDARD
TZOFFSETFROM:+0000
TZOFFSETTO:+0000
TZNAME:UTC
DTSTART:20210101T000000
END:STANDARD
END:VTIMEZONE
BEGIN:VEVENT
DTSTART;TZID=America/Detroit:20220712T133000
DTEND;TZID=America/Detroit:20220712T153000
DTSTAMP:20260421T023018
CREATED:20220428T143908Z
LAST-MODIFIED:20220615T165130Z
UID:7771-1657632600-1657639800@www.oscodatownship.com
SUMMARY:Oscoda Writers Group
DESCRIPTION:The Oscoda Writers Group is a friendly group that welcomes anybody that loves to write. Meetings start with reading aloud stories\, poems\, and personal essays on a common subject chosen the previous week; the members then offer helpful comments rather than criticism of each others work. Short impromptu writing exercises usually follow\, but at times discussions erupt and the time seems to evaporate as members engage in lively conversations.
URL:https://www.oscodatownship.com/event/oscoda-writers-group-11/
LOCATION:Robert J. Parks Library\, 6010 N Skeel Ave\, Oscoda\, MI\, 48750\, United States
CATEGORIES:Writing
END:VEVENT
BEGIN:VEVENT
DTSTART;TZID=America/Detroit:20220705T133000
DTEND;TZID=America/Detroit:20220705T153000
DTSTAMP:20260421T023018
CREATED:20220428T143104Z
LAST-MODIFIED:20220428T143104Z
UID:7766-1657027800-1657035000@www.oscodatownship.com
SUMMARY:Oscoda Writers Group
DESCRIPTION:The Oscoda Writers group is a friendly group that welcomes anybody that loves to write. Meetings start with reading aloud stories\, poems\, and personal essays on a common subject chosen the previous week; the members then offer helpful comments rather than criticism of each others work. Short impromptu writing exercises usually follow\, but at times discussions erupt and the time seems to evaporate as member engage in lively conversations.
URL:https://www.oscodatownship.com/event/oscoda-writers-group-10/
LOCATION:Robert J. Parks Library\, 6010 N Skeel Ave\, Oscoda\, MI\, 48750\, United States
CATEGORIES:Writing
END:VEVENT
BEGIN:VEVENT
DTSTART;TZID=America/Detroit:20220628T133000
DTEND;TZID=America/Detroit:20220628T153000
DTSTAMP:20260421T023018
CREATED:20220428T134955Z
LAST-MODIFIED:20220428T134955Z
UID:7755-1656423000-1656430200@www.oscodatownship.com
SUMMARY:Oscoda Writers Group
DESCRIPTION:The Oscoda Writers Group is a friendly group that welcomes anybody that loves to write. Meetings start with reading aloud stories\, poems\, and personal essays on a common subject chosen the previous week; the members then offer helpful comments rather than criticism of each other’s work. Short impromptu writing exercises usually follow\, but at times discussions erupt and the time seems to evaporate as member engage in lively conversations.
URL:https://www.oscodatownship.com/event/oscoda-writers-group-9/
LOCATION:Robert J. Parks Library\, 6010 N Skeel Ave\, Oscoda\, MI\, 48750\, United States
CATEGORIES:Writing
END:VEVENT
BEGIN:VEVENT
DTSTART;TZID=America/Detroit:20220621T133000
DTEND;TZID=America/Detroit:20220621T153000
DTSTAMP:20260421T023018
CREATED:20220427T204431Z
LAST-MODIFIED:20220427T204431Z
UID:7750-1655818200-1655825400@www.oscodatownship.com
SUMMARY:Oscoda Writers Group
DESCRIPTION:The Oscoda Writers Group is a friendly group that welcomes anybody that loves to write. Meetings start with reading aloud stories\, poems\, and personal essays on a common subject chosen the previous week; the members then offer helpful comments rather than criticism of each others work. Short impromptu writing exercises usually follow\, but at times discussions erupt and the time seems to evaporate as members engage in lively conversations.
URL:https://www.oscodatownship.com/event/oscoda-writers-group-8/
LOCATION:Robert J. Parks Library\, 6010 N Skeel Ave\, Oscoda\, MI\, 48750\, United States
CATEGORIES:Writing
END:VEVENT
BEGIN:VEVENT
DTSTART;TZID=America/Detroit:20220614T133000
DTEND;TZID=America/Detroit:20220614T153000
DTSTAMP:20260421T023018
CREATED:20220427T202755Z
LAST-MODIFIED:20220427T202755Z
UID:7744-1655213400-1655220600@www.oscodatownship.com
SUMMARY:The Oscoda Writers Group
DESCRIPTION:The Oscoda Writers Group is a friendly group that welcomes anybody that loves to write. Meetings start with reading aloud stories\, poems\, and personal essays on a common subject chosen the previous week; the members then offer helpful comments rather than criticism of each others work. Short impromptu writing exercises usually follow\, but at times discussions erupt and the time seems to evaporate as members engage in lively conversations.
URL:https://www.oscodatownship.com/event/the-oscoda-writers-group-16/
LOCATION:Robert J. Parks Library\, 6010 N Skeel Ave\, Oscoda\, MI\, 48750\, United States
CATEGORIES:Educational,Writing
END:VEVENT
BEGIN:VEVENT
DTSTART;TZID=America/Detroit:20220607T133000
DTEND;TZID=America/Detroit:20220607T153000
DTSTAMP:20260421T023018
CREATED:20220427T203135Z
LAST-MODIFIED:20220427T203135Z
UID:7745-1654608600-1654615800@www.oscodatownship.com
SUMMARY:Oscoda Writers Group
DESCRIPTION:The Oscoda Writers Group is a friendly group that welcomes anybody that loves to write. Meetings start with reading aloud stories\, poems\, and personal essays on a common subject chosen the previous week; the members then offer helpful comments rather than criticism of each others work. Short impromptu writing exercises usually follow\, but at times discussions erupt and the time seems to evaporate as member engage in lively conversations.
URL:https://www.oscodatownship.com/event/oscoda-writers-group-7/
LOCATION:Robert J. Parks Library\, 6010 N Skeel Ave\, Oscoda\, MI\, 48750\, United States
CATEGORIES:Writing
END:VEVENT
BEGIN:VEVENT
DTSTART;TZID=America/Detroit:20220531T133000
DTEND;TZID=America/Detroit:20220531T153000
DTSTAMP:20260421T023018
CREATED:20220302T161245Z
LAST-MODIFIED:20220302T161245Z
UID:7015-1654003800-1654011000@www.oscodatownship.com
SUMMARY:The Oscoda Writers Group
DESCRIPTION:The Oscoda Writers Group is a friendly group that welcomes anybody that loves to write. Meetings start with reading aloud stories\, poems\, and personal essays on a common subject chosen the previous week; the members then offer helpful comments rather than criticism of each other’s work. Short impromptu writing exercises usually follow\, but at times discussions erupt and the time seems to evaporate as member engage in lively conversations.
URL:https://www.oscodatownship.com/event/the-oscoda-writers-group-15/
LOCATION:Robert J. Parks Library\, 6010 N Skeel Ave\, Oscoda\, MI\, 48750\, United States
CATEGORIES:Writing
END:VEVENT
BEGIN:VEVENT
DTSTART;TZID=America/Detroit:20220524T133000
DTEND;TZID=America/Detroit:20220524T153000
DTSTAMP:20260421T023018
CREATED:20220302T161153Z
LAST-MODIFIED:20220302T161153Z
UID:7014-1653399000-1653406200@www.oscodatownship.com
SUMMARY:The Oscoda Writers Group
DESCRIPTION:The Oscoda Writers Group is a friendly group that welcomes anybody that loves to write. Meetings start with reading aloud stories\, poems\, and personal essays on a common subject chosen the previous week; the members then offer helpful comments rather than criticism of each other’s work. Short impromptu writing exercises usually follow\, but at times discussions erupt and the time seems to evaporate as member engage in lively conversations.
URL:https://www.oscodatownship.com/event/the-oscoda-writers-group-14/
LOCATION:Robert J. Parks Library\, 6010 N Skeel Ave\, Oscoda\, MI\, 48750\, United States
CATEGORIES:Writing
END:VEVENT
BEGIN:VEVENT
DTSTART;TZID=America/Detroit:20220517T133000
DTEND;TZID=America/Detroit:20220517T153000
DTSTAMP:20260421T023018
CREATED:20220302T161108Z
LAST-MODIFIED:20220302T161650Z
UID:7013-1652794200-1652801400@www.oscodatownship.com
SUMMARY:The Oscoda Writers Group
DESCRIPTION:The Oscoda Writers Group is a friendly group that welcomes anybody that loves to write. Meetings start with reading aloud stories\, poems\, and personal essays on a common subject chosen the previous week; the members then offer helpful comments rather than criticism of each other’s work. Short impromptu writing exercises usually follow\, but at times discussions erupt and the time seems to evaporate as member engage in lively conversations.
URL:https://www.oscodatownship.com/event/the-oscoda-writers-group-13/
LOCATION:Robert J. Parks Library\, 6010 N Skeel Ave\, Oscoda\, MI\, 48750\, United States
CATEGORIES:Writing
END:VEVENT
BEGIN:VEVENT
DTSTART;TZID=America/Detroit:20220510T133000
DTEND;TZID=America/Detroit:20220510T153000
DTSTAMP:20260421T023018
CREATED:20220302T161030Z
LAST-MODIFIED:20220302T161030Z
UID:7012-1652189400-1652196600@www.oscodatownship.com
SUMMARY:The Oscoda Writers Group
DESCRIPTION:The Oscoda Writers Group is a friendly group that welcomes anybody that loves to write. Meetings start with reading aloud stories\, poems\, and personal essays on a common subject chosen the previous week; the members then offer helpful comments rather than criticism of each other’s work. Short impromptu writing exercises usually follow\, but at times discussions erupt and the time seems to evaporate as member engage in lively conversations.
URL:https://www.oscodatownship.com/event/the-oscoda-writers-group-12/
LOCATION:Robert J. Parks Library\, 6010 N Skeel Ave\, Oscoda\, MI\, 48750\, United States
CATEGORIES:Writing
END:VEVENT
BEGIN:VEVENT
DTSTART;TZID=America/Detroit:20220503T133000
DTEND;TZID=America/Detroit:20220503T153000
DTSTAMP:20260421T023018
CREATED:20220302T160937Z
LAST-MODIFIED:20220302T160937Z
UID:7011-1651584600-1651591800@www.oscodatownship.com
SUMMARY:The Oscoda Writers Group
DESCRIPTION:The Oscoda Writers Group is a friendly group that welcomes anybody that loves to write. Meetings start with reading aloud stories\, poems\, and personal essays on a common subject chosen the previous week; the members then offer helpful comments rather than criticism of each other’s work. Short impromptu writing exercises usually follow\, but at times discussions erupt and the time seems to evaporate as member engage in lively conversations.
URL:https://www.oscodatownship.com/event/the-oscoda-writers-group-11/
LOCATION:Robert J. Parks Library\, 6010 N Skeel Ave\, Oscoda\, MI\, 48750\, United States
CATEGORIES:Writing
END:VEVENT
BEGIN:VEVENT
DTSTART;TZID=America/Detroit:20220426T133000
DTEND;TZID=America/Detroit:20220426T153000
DTSTAMP:20260421T023018
CREATED:20220302T155605Z
LAST-MODIFIED:20220302T155605Z
UID:7010-1650979800-1650987000@www.oscodatownship.com
SUMMARY:The Oscoda Writers Group
DESCRIPTION:The Oscoda Writers Group is a friendly group that welcomes anybody that loves to write. Meetings start with reading aloud stories\, poems\, and personal essays on a common subject chosen the previous week; the members then offer helpful comments rather than criticism of each other’s work. Short impromptu writing exercises usually follow\, but at times discussions erupt and the time seems to evaporate as member engage in lively conversations.
URL:https://www.oscodatownship.com/event/the-oscoda-writers-group-10/
LOCATION:Robert J. Parks Library\, 6010 N Skeel Ave\, Oscoda\, MI\, 48750\, United States
CATEGORIES:Writing
END:VEVENT
BEGIN:VEVENT
DTSTART;TZID=America/Detroit:20220419T133000
DTEND;TZID=America/Detroit:20220419T153000
DTSTAMP:20260421T023018
CREATED:20220302T155507Z
LAST-MODIFIED:20220302T155507Z
UID:7009-1650375000-1650382200@www.oscodatownship.com
SUMMARY:The Oscoda Writers Group
DESCRIPTION:The Oscoda Writers Group is a friendly group that welcomes anybody that loves to write. Meetings start with reading aloud stories\, poems\, and personal essays on a common subject chosen the previous week; the members then offer helpful comments rather than criticism of each other’s work. Short impromptu writing exercises usually follow\, but at times discussions erupt and the time seems to evaporate as member engage in lively conversations.
URL:https://www.oscodatownship.com/event/the-oscoda-writers-group-9/
LOCATION:Robert J. Parks Library\, 6010 N Skeel Ave\, Oscoda\, MI\, 48750\, United States
CATEGORIES:Writing
END:VEVENT
BEGIN:VEVENT
DTSTART;TZID=America/Detroit:20220412T133000
DTEND;TZID=America/Detroit:20220412T153000
DTSTAMP:20260421T023018
CREATED:20220302T155415Z
LAST-MODIFIED:20220302T155415Z
UID:7008-1649770200-1649777400@www.oscodatownship.com
SUMMARY:The Oscoda Writers Group
DESCRIPTION:The Oscoda Writers Group is a friendly group that welcomes anybody that loves to write. Meetings start with reading aloud stories\, poems\, and personal essays on a common subject chosen the previous week; the members then offer helpful comments rather than criticism of each other’s work. Short impromptu writing exercises usually follow\, but at times discussions erupt and the time seems to evaporate as member engage in lively conversations.
URL:https://www.oscodatownship.com/event/the-oscoda-writers-group-8/
LOCATION:Robert J. Parks Library\, 6010 N Skeel Ave\, Oscoda\, MI\, 48750\, United States
CATEGORIES:Writing
END:VEVENT
BEGIN:VEVENT
DTSTART;TZID=America/Detroit:20220405T133000
DTEND;TZID=America/Detroit:20220405T153000
DTSTAMP:20260421T023018
CREATED:20220302T155322Z
LAST-MODIFIED:20220302T155322Z
UID:7007-1649165400-1649172600@www.oscodatownship.com
SUMMARY:The Oscoda Writers Group
DESCRIPTION:The Oscoda Writers Group is a friendly group that welcomes anybody that loves to write. Meetings start with reading aloud stories\, poems\, and personal essays on a common subject chosen the previous week; the members then offer helpful comments rather than criticism of each other’s work. Short impromptu writing exercises usually follow\, but at times discussions erupt and the time seems to evaporate as member engage in lively conversations.
URL:https://www.oscodatownship.com/event/the-oscoda-writers-group-3/
LOCATION:Robert J. Parks Library\, 6010 N Skeel Ave\, Oscoda\, MI\, 48750\, United States
CATEGORIES:Writing
END:VEVENT
BEGIN:VEVENT
DTSTART;TZID=America/Detroit:20220329T133000
DTEND;TZID=America/Detroit:20220329T153000
DTSTAMP:20260421T023018
CREATED:20220302T151932Z
LAST-MODIFIED:20220302T151932Z
UID:7000-1648560600-1648567800@www.oscodatownship.com
SUMMARY:The Oscoda Writers Group
DESCRIPTION:The Oscoda Writers Group is a friendly group that welcomes anybody that loves to write. Meetings start with reading aloud stories\, poems\, and personal essays on a common subject chosen the previous week; the members then offer helpful comments rather than criticism of each others work. Short impromptu writing exercises usually follow\, but at times discussions erupt and the time seems to evaporate as member engage in lively conversations.
URL:https://www.oscodatownship.com/event/the-oscoda-writers-group-7/
LOCATION:Robert J. Parks Library\, 6010 N Skeel Ave\, Oscoda\, MI\, 48750\, United States
CATEGORIES:Writing
END:VEVENT
BEGIN:VEVENT
DTSTART;TZID=America/Detroit:20220322T133000
DTEND;TZID=America/Detroit:20220322T153000
DTSTAMP:20260421T023018
CREATED:20220302T151854Z
LAST-MODIFIED:20220302T151854Z
UID:6999-1647955800-1647963000@www.oscodatownship.com
SUMMARY:The Oscoda Writers Group
DESCRIPTION:The Oscoda Writers Group is a friendly group that welcomes anybody that loves to write. Meetings start with reading aloud stories\, poems\, and personal essays on a common subject chosen the previous week; the members then offer helpful comments rather than criticism of each others work. Short impromptu writing exercises usually follow\, but at times discussions erupt and the time seems to evaporate as member engage in lively conversations.
URL:https://www.oscodatownship.com/event/the-oscoda-writers-group-6/
LOCATION:Robert J. Parks Library\, 6010 N Skeel Ave\, Oscoda\, MI\, 48750\, United States
CATEGORIES:Writing
END:VEVENT
BEGIN:VEVENT
DTSTART;TZID=America/Detroit:20220315T133000
DTEND;TZID=America/Detroit:20220315T153000
DTSTAMP:20260421T023018
CREATED:20220302T151812Z
LAST-MODIFIED:20220302T151812Z
UID:6998-1647351000-1647358200@www.oscodatownship.com
SUMMARY:The Oscoda Writers Group
DESCRIPTION:The Oscoda Writers Group is a friendly group that welcomes anybody that loves to write. Meetings start with reading aloud stories\, poems\, and personal essays on a common subject chosen the previous week; the members then offer helpful comments rather than criticism of each others work. Short impromptu writing exercises usually follow\, but at times discussions erupt and the time seems to evaporate as member engage in lively conversations.
URL:https://www.oscodatownship.com/event/the-oscoda-writers-group-5/
LOCATION:Robert J. Parks Library\, 6010 N Skeel Ave\, Oscoda\, MI\, 48750\, United States
CATEGORIES:Writing
END:VEVENT
BEGIN:VEVENT
DTSTART;TZID=America/Detroit:20220308T133000
DTEND;TZID=America/Detroit:20220308T153000
DTSTAMP:20260421T023018
CREATED:20220302T151729Z
LAST-MODIFIED:20220302T151729Z
UID:6997-1646746200-1646753400@www.oscodatownship.com
SUMMARY:The Oscoda Writers Group
DESCRIPTION:The Oscoda Writers Group is a friendly group that welcomes anybody that loves to write. Meetings start with reading aloud stories\, poems\, and personal essays on a common subject chosen the previous week; the members then offer helpful comments rather than criticism of each others work. Short impromptu writing exercises usually follow\, but at times discussions erupt and the time seems to evaporate as member engage in lively conversations.
URL:https://www.oscodatownship.com/event/the-oscoda-writers-group-4/
LOCATION:Robert J. Parks Library\, 6010 N Skeel Ave\, Oscoda\, MI\, 48750\, United States
CATEGORIES:Writing
END:VEVENT
BEGIN:VEVENT
DTSTART;TZID=America/Detroit:20220301T133000
DTEND;TZID=America/Detroit:20220301T153000
DTSTAMP:20260421T023018
CREATED:20220302T151451Z
LAST-MODIFIED:20220302T151451Z
UID:6995-1646141400-1646148600@www.oscodatownship.com
SUMMARY:The Oscoda Writers Group
DESCRIPTION:The Oscoda Writers Group is a friendly group that welcomes anybody that loves to write. Meetings start with reading aloud stories\, poems\, and personal essays on a common subject chosen the previous week; the members then offer helpful comments rather than criticism of each others work. Short impromptu writing exercises usually follow\, but at times discussions erupt and the time seems to evaporate as member engage in lively conversations.
URL:https://www.oscodatownship.com/event/the-oscoda-writers-group-2/
LOCATION:Robert J. Parks Library\, 6010 N Skeel Ave\, Oscoda\, MI\, 48750\, United States
CATEGORIES:Writing
END:VEVENT
BEGIN:VEVENT
DTSTART;TZID=UTC:20220125T133000
DTEND;TZID=UTC:20220125T153000
DTSTAMP:20260421T023018
CREATED:20211117T225616Z
LAST-MODIFIED:20211117T225616Z
UID:5470-1643117400-1643124600@www.oscodatownship.com
SUMMARY:Oscoda Writers Group
DESCRIPTION:The Oscoda Writers Group is a friendly group that welcomes anybody that loves to write. Meetings start with reading aloud stories\, poems\, and personal essays on a common subject chosen the previous week; the members then offer helpful comments rather than criticism of each others work. Short impromptu writing exercises usually follow\, but at times discussions erupt and the time seems to evaporate as member engage in lively conversations.
URL:https://www.oscodatownship.com/event/oscoda-writers-group-6/
LOCATION:Robert J. Parks Library\, 6010 N Skeel Ave\, Oscoda\, MI\, 48750\, United States
CATEGORIES:Writing
END:VEVENT
BEGIN:VEVENT
DTSTART;TZID=UTC:20220118T133000
DTEND;TZID=UTC:20220118T153000
DTSTAMP:20260421T023018
CREATED:20211117T225533Z
LAST-MODIFIED:20211117T225533Z
UID:5469-1642512600-1642519800@www.oscodatownship.com
SUMMARY:Oscoda Writers Group
DESCRIPTION:The Oscoda Writers Group is a friendly group that welcomes anybody that loves to write. Meetings start with reading aloud stories\, poems\, and personal essays on a common subject chosen the previous week; the members then offer helpful comments rather than criticism of each others work. Short impromptu writing exercises usually follow\, but at times discussions erupt and the time seems to evaporate as member engage in lively conversations.
URL:https://www.oscodatownship.com/event/oscoda-writers-group-5/
LOCATION:Robert J. Parks Library\, 6010 N Skeel Ave\, Oscoda\, MI\, 48750\, United States
CATEGORIES:Writing
END:VEVENT
BEGIN:VEVENT
DTSTART;TZID=UTC:20220111T133000
DTEND;TZID=UTC:20220111T153000
DTSTAMP:20260421T023018
CREATED:20211117T225407Z
LAST-MODIFIED:20211117T225407Z
UID:5468-1641907800-1641915000@www.oscodatownship.com
SUMMARY:Oscoda Writers Group
DESCRIPTION:The Oscoda Writers Group is a friendly group that welcomes anybody that loves to write. Meetings start with reading aloud stories\, poems\, and personal essays on a common subject chosen the previous week; the members then offer helpful comments rather than criticism of each others work. Short impromptu writing exercises usually follow\, but at times discussions erupt and the time seems to evaporate as member engage in lively conversations.
URL:https://www.oscodatownship.com/event/oscoda-writers-group-4/
LOCATION:Robert J. Parks Library\, 6010 N Skeel Ave\, Oscoda\, MI\, 48750\, United States
CATEGORIES:Writing
END:VEVENT
BEGIN:VEVENT
DTSTART;TZID=UTC:20220104T133000
DTEND;TZID=UTC:20220104T153000
DTSTAMP:20260421T023018
CREATED:20211117T225324Z
LAST-MODIFIED:20211117T225324Z
UID:5467-1641303000-1641310200@www.oscodatownship.com
SUMMARY:Oscoda Writers Group
DESCRIPTION:The Oscoda Writers Group is a friendly group that welcomes anybody that loves to write. Meetings start with reading aloud stories\, poems\, and personal essays on a common subject chosen the previous week; the members then offer helpful comments rather than criticism of each others work. Short impromptu writing exercises usually follow\, but at times discussions erupt and the time seems to evaporate as member engage in lively conversations.
URL:https://www.oscodatownship.com/event/oscoda-writers-group-3/
LOCATION:Robert J. Parks Library\, 6010 N Skeel Ave\, Oscoda\, MI\, 48750\, United States
CATEGORIES:Writing
END:VEVENT
BEGIN:VEVENT
DTSTART;TZID=UTC:20211221T133000
DTEND;TZID=UTC:20211221T153000
DTSTAMP:20260421T023018
CREATED:20211117T221251Z
LAST-MODIFIED:20211117T221251Z
UID:5464-1640093400-1640100600@www.oscodatownship.com
SUMMARY:Oscoda Writers Group
DESCRIPTION:The Oscoda Writers Group is a friendly group that welcomes anybody that loves to write. Meetings start with reading aloud stories\, poems\, and personal essays on a common subject chosen the previous week; the members then offer helpful comments rather than criticism of each others work. Short impromptu writing exercises usually follow\, but at times discussions erupt and the time seems to evaporate as member engage in lively conversations.
URL:https://www.oscodatownship.com/event/oscoda-writers-group-2/
LOCATION:Robert J. Parks Library\, 6010 N Skeel Ave\, Oscoda\, MI\, 48750\, United States
CATEGORIES:Writing
END:VEVENT
BEGIN:VEVENT
DTSTART;TZID=UTC:20211214T133000
DTEND;TZID=UTC:20211214T153000
DTSTAMP:20260421T023018
CREATED:20211117T221159Z
LAST-MODIFIED:20211117T221159Z
UID:5463-1639488600-1639495800@www.oscodatownship.com
SUMMARY:Oscoda Writers Group
DESCRIPTION:The Oscoda Writers Group is a friendly group that welcomes anybody that loves to write. Meetings start with reading aloud stories\, poems\, and personal essays on a common subject chosen the previous week; the members then offer helpful comments rather than criticism of each others work. Short impromptu writing exercises usually follow\, but at times discussions erupt and the time seems to evaporate as member engage in lively conversations.
URL:https://www.oscodatownship.com/event/oscoda-writers-group/
LOCATION:Robert J. Parks Library\, 6010 N Skeel Ave\, Oscoda\, MI\, 48750\, United States
CATEGORIES:Writing
END:VEVENT
BEGIN:VEVENT
DTSTART;TZID=UTC:20211207T133000
DTEND;TZID=UTC:20211207T153000
DTSTAMP:20260421T023018
CREATED:20211117T215441Z
LAST-MODIFIED:20211117T215441Z
UID:5459-1638883800-1638891000@www.oscodatownship.com
SUMMARY:The Oscoda Writers Group
DESCRIPTION:The Oscoda Writers Group is a friendly group that welcomes anybody that loves to write. Meetings start with reading aloud stories\, poems\, and personal essays on a common subject chosen the previous week; the members then offer helpful comments rather than criticism of each others work. Short impromptu writing exercises usually follow\, but at times discussions erupt and the time seems to evaporate as member engage in lively conversations.
URL:https://www.oscodatownship.com/event/the-oscoda-writers-group/
LOCATION:Robert J. Parks Library\, 6010 N Skeel Ave\, Oscoda\, MI\, 48750\, United States
CATEGORIES:Writing
END:VEVENT
END:VCALENDAR